BEGIN:VCALENDAR
VERSION:2.0
PRODID:-//ChamberMaster//Event Calendar 2.0//EN
METHOD:PUBLISH
X-PUBLISHED-TTL:P3D
REFRESH-INTERVAL:P3D
CALSCALE:GREGORIAN
BEGIN:VEVENT
DTSTART:20230824T233000Z
DTEND:20230825T013000Z
X-MICROSOFT-CDO-ALLDAYEVENT:FALSE
SUMMARY:FREE Paint & Sip Night!
DESCRIPTION:Join us at Your CBD Store Southlake for Paint & Sip Night! \n\nIncludes: \n\n  Paint Supplies\n\n  Guided Instruction\n\n  Take-Home Completed Canvas\n\n  Light Bites\n\n  Drinks\, CBD Samples & More! \n\nMust be age 21+ please!\n\nThis is a fun\, relaxed environment and by no means taught by a professional. Just a small mom and pop shop hosting events for the community. All attendees will get BOGO 50% off any products during the class! \n\nIf you reserve a seat and are unable to attend\, please contact us at 817-240-3332 to cancel your reservation. Seating is limited.
X-ALT-DESC;FMTTYPE=text/html:<p>Join us at Your CBD Store Southlake for Paint &amp\; Sip Night!&nbsp\;</p>\n\n<p>Includes:&nbsp\;</p>\n\n<p>&bull\; Paint Supplies</p>\n\n<p>&bull\; Guided Instruction</p>\n\n<p>&bull\; Take-Home Completed Canvas</p>\n\n<p>&bull\; Light Bites</p>\n\n<p>&bull\; Drinks\, CBD Samples &amp\; More!&nbsp\;</p>\n\n<p>Must be age 21+ please!</p>\n\n<p>This is a fun\, relaxed environment and by no means taught by a professional. Just a small mom and pop shop hosting events for the community. All attendees will get BOGO 50% off any products during the class!&nbsp\;</p>\n\n<p><strong>If you reserve a seat and are unable to attend\, please contact us at 817-240-3332 to cancel your reservation. Seating is limited.</strong></p>\n
LOCATION:Your CBD Store Southlake 2354 E State Hwy 114 Southlake\, TX 76092
UID:e.770.197325
SEQUENCE:3
DTSTAMP:20260424T235933Z
URL:https://business.grapevinechamber.org/events/details/free-paint-sip-night-197325
END:VEVENT

END:VCALENDAR
