BEGIN:VCALENDAR
VERSION:2.0
PRODID:-//ChamberMaster//Event Calendar 2.0//EN
METHOD:PUBLISH
X-PUBLISHED-TTL:P3D
REFRESH-INTERVAL:P3D
CALSCALE:GREGORIAN
BEGIN:VEVENT
DTSTART:20240216T003000Z
DTEND:20240216T023000Z
X-MICROSOFT-CDO-ALLDAYEVENT:FALSE
SUMMARY:FREE Paint & Sip Night!
DESCRIPTION:Your CBD Store Southlake hosts a fun evening of paining\, sipping and laughing! Everything you need is included so just show up!\n\n \n\n\nJoin us at Your CBD Store Southlake for Paint Night!\n\nIncludes:\n\n  Paint Supplies\n\n  Guided Instruction\n\n  Take-Home Completed Canvas\n\n  Light Bites\n\n  Drinks\, Samples & More!\n\nMust be age 21+ please!\n\nThis is a fun\, relaxed environment and by no means taught by a professional. Just a small mom and pop shop hosting events for the community. All attendees will get BOGO 50% off any products during the class!\n\nIf you reserve a seat and are unable to attend\, please contact us at 817-240-3332 to cancel your reservation. Seating is limited.
X-ALT-DESC;FMTTYPE=text/html:<span style="font-size:14px"><span style="font-family:tahoma"><span style="color:rgb(57\, 54\, 79)">Your CBD Store Southlake hosts a fun evening of paining\, sipping and laughing! Everything you need is included so just show up!</span></span></span><br />\n&nbsp\;\n<div>\n<div>\n<p><span style="font-size:14px"><span style="font-family:tahoma">Join us at Your CBD Store Southlake for Paint Night!</span></span></p>\n\n<p><span style="font-size:14px"><span style="font-family:tahoma">Includes:</span></span></p>\n\n<p><span style="font-size:14px"><span style="font-family:tahoma">&bull\; Paint Supplies</span></span></p>\n\n<p><span style="font-size:14px"><span style="font-family:tahoma">&bull\; Guided Instruction</span></span></p>\n\n<p><span style="font-size:14px"><span style="font-family:tahoma">&bull\; Take-Home Completed Canvas</span></span></p>\n\n<p><span style="font-size:14px"><span style="font-family:tahoma">&bull\; Light Bites</span></span></p>\n\n<p><span style="font-size:14px"><span style="font-family:tahoma">&bull\; Drinks\, Samples &amp\; More!</span></span></p>\n\n<p><span style="font-size:14px"><span style="font-family:tahoma">Must be age 21+ please!</span></span></p>\n\n<p><span style="font-size:14px"><span style="font-family:tahoma">This is a fun\, relaxed environment and by no means taught by a professional. Just a small mom and pop shop hosting events for the community. All attendees will get BOGO 50% off any products during the class!</span></span></p>\n\n<p><span style="font-size:14px"><span style="font-family:tahoma"><strong>If you reserve a seat and are unable to attend\, please contact us at 817-240-3332 to cancel your reservation. Seating is limited.</strong></span></span></p>\n</div>\n</div>\n\n<div>\n<div>&nbsp\;</div>\n</div>\n
LOCATION:Your CBD Store Southlake 2354 E State Hwy 114 Southlake\, TX 76092
UID:e.770.198260
SEQUENCE:3
DTSTAMP:20260424T130317Z
URL:https://business.grapevinechamber.org/events/details/free-paint-sip-night-02-15-2024-198260
END:VEVENT

END:VCALENDAR
