BEGIN:VCALENDAR
VERSION:2.0
PRODID:-//ChamberMaster//Event Calendar 2.0//EN
METHOD:PUBLISH
X-PUBLISHED-TTL:P3D
REFRESH-INTERVAL:P3D
CALSCALE:GREGORIAN
BEGIN:VEVENT
DTSTART:20130104T003000Z
DTEND:20130104T033000Z
X-MICROSOFT-CDO-ALLDAYEVENT:FALSE
SUMMARY:"Fleur de Lis" Benefiting Grapevine High School - Project Graduation
DESCRIPTION:
X-ALT-DESC;FMTTYPE=text/html:
LOCATION:Art in the Vine 441 E. Northwest Highway Grapevine 76051
UID:e.770.163233
SEQUENCE:3
DTSTAMP:20260421T210735Z
URL:https://business.grapevinechamber.org/events/details/fleur-de-lis-benefiting-grapevine-high-school-project-graduation-01-03-2013-163233
END:VEVENT

END:VCALENDAR
