BEGIN:VCALENDAR
VERSION:2.0
PRODID:-//ChamberMaster//Event Calendar 2.0//EN
METHOD:PUBLISH
X-PUBLISHED-TTL:P3D
REFRESH-INTERVAL:P3D
CALSCALE:GREGORIAN
BEGIN:VEVENT
DTSTART:20220819T133000Z
DTEND:20220819T220000Z
X-MICROSOFT-CDO-ALLDAYEVENT:FALSE
SUMMARY:First Annual Grapevine CrossFit Charity Golf Tournament Benefiting Barbells for Boobs
DESCRIPTION:Please join us for the First Annual Grapevine CrossFit Charity Golf Tournament Benefiting Barbells for Boobs!\n\n\n\nBarbells for Boobs is a 501(c)3 non-profit organization. They are improving the standard in healthcare with support and education to incorporate physical activity as the foundation for breast cancer risk reduction\, treatment\, and survivorship. They strive to improve the quality of life and outcomes in individuals impacted by breast cancer. We have multiple sponsor opportunities \n\n\n\nWe will have multiple sponsorship opportunities available! \n\nRegister at link below! \n\nhttps://growth.streamnowpro.com/v2/preview/1R1m4ZRM5ajCntnD9lBx\n\nDay of Tournament-\n\n8:30am Shotgun Start\n\nTeams of 4 \n\nPrizes and Raffles\n\n10k Hole-in one!
X-ALT-DESC;FMTTYPE=text/html:<p><br />\nPlease join us for the First Annual Grapevine CrossFit Charity Golf Tournament Benefiting Barbells for Boobs!<br />\n<br />\nBarbells for Boobs is a 501(c)3 non-profit organization.&nbsp\;They are improving the standard in healthcare with support and education to incorporate physical activity as the foundation for breast cancer risk reduction\, treatment\, and survivorship. They strive to improve the quality of life and outcomes in individuals impacted by breast cancer. We have multiple sponsor opportunities&nbsp\;<br />\n<br />\nWe will have multiple sponsorship opportunities available!&nbsp\;</p>\n\n<p>Register at link below!&nbsp\;<br />\n<a href="https://growth.streamnowpro.com/v2/preview/1R1m4ZRM5ajCntnD9lBx">https://growth.streamnowpro.com/v2/preview/1R1m4ZRM5ajCntnD9lBx</a></p>\n\n<p>Day of Tournament-<br />\n8:30am Shotgun Start<br />\nTeams of 4&nbsp\;<br />\nPrizes and Raffles<br />\n10k Hole-in one!</p>\n
LOCATION:Grapevine Golf Course 3800 Fairway Drive Grapevine\, TX 76051
UID:e.770.195458
SEQUENCE:3
DTSTAMP:20260425T194425Z
URL:https://business.grapevinechamber.org/events/details/first-annual-grapevine-crossfit-charity-golf-tournament-benefiting-barbells-for-boobs-195458
END:VEVENT

END:VCALENDAR
