BEGIN:VCALENDAR
VERSION:2.0
PRODID:-//ChamberMaster//Event Calendar 2.0//EN
METHOD:PUBLISH
X-PUBLISHED-TTL:P3D
REFRESH-INTERVAL:P3D
CALSCALE:GREGORIAN
BEGIN:VEVENT
DTSTART:20121014T210000Z
DTEND:20121015T010000Z
X-MICROSOFT-CDO-ALLDAYEVENT:FALSE
SUMMARY:First Annual Cruise for the Cure
DESCRIPTION:First Annual Cruise for the Cure. Sit back and enjoy cruising around beautiful Lake Grapevine on "Tejas" - a 90' Private Charter Boat - in support of breast cancer awareness and the Joan Katz Breast Center. The cruise will commence at 4 p.m and include drinks\, food\, silent auction\, raffle prizes and good cheer. An after party will follow the cruise at 8 p.m.
X-ALT-DESC;FMTTYPE=text/html:First Annual Cruise for the Cure. Sit back and enjoy cruising around beautiful Lake Grapevine on &quot\;Tejas&quot\; - a 90&#39\; Private Charter Boat - in support of breast cancer awareness and the Joan Katz Breast Center. The cruise will commence at 4 p.m and include drinks\, food\, silent auction\, raffle prizes and good cheer. An after party will follow the cruise at 8 p.m.
LOCATION:Silver Lake Marina on Lake Grapevine 2500 Fairway Dr. Grapevine\, TX 76051
UID:e.770.162995
SEQUENCE:3
DTSTAMP:20260422T110231Z
URL:https://business.grapevinechamber.org/events/details/first-annual-cruise-for-the-cure-10-14-2012-162995
END:VEVENT

END:VCALENDAR
