BEGIN:VCALENDAR
VERSION:2.0
PRODID:-//ChamberMaster//Event Calendar 2.0//EN
METHOD:PUBLISH
X-PUBLISHED-TTL:P3D
REFRESH-INTERVAL:P3D
CALSCALE:GREGORIAN
BEGIN:VEVENT
DTSTART:20230610T230000Z
DTEND:20230611T030000Z
X-MICROSOFT-CDO-ALLDAYEVENT:FALSE
SUMMARY:Firearm Showcase with Peter Hofer\, Master Gun & Rifle Maker
DESCRIPTION:Master Hofer is joining us for one night from Austria to showcase and discuss a selection of his exclusive works of art.
X-ALT-DESC;FMTTYPE=text/html:Master Hofer is joining us for one night from Austria to showcase and discuss a selection of his exclusive works of art.
LOCATION:Black-Tie Guns 129 S. Main St. Grapevine\, TX 76051
UID:e.770.197228
SEQUENCE:3
DTSTAMP:20260425T020444Z
URL:https://business.grapevinechamber.org/events/details/firearm-showcase-with-peter-hofer-master-gun-rifle-maker-197228
END:VEVENT

END:VCALENDAR
