BEGIN:VCALENDAR
VERSION:2.0
PRODID:-//ChamberMaster//Event Calendar 2.0//EN
METHOD:PUBLISH
X-PUBLISHED-TTL:P3D
REFRESH-INTERVAL:P3D
CALSCALE:GREGORIAN
BEGIN:VEVENT
DTSTART:20230724T220000Z
DTEND:20230725T010000Z
X-MICROSOFT-CDO-ALLDAYEVENT:FALSE
SUMMARY:Fentanyl Poisoning\, Overdose and SUD's Awareness Community Event
DESCRIPTION:An evening event to learn more about the current overdose and substance use disorder crisis threatening our families and community.  Resources will be available to help improve awareness\, along with providing recovery options for loved ones in need.\n\n\n\nSpeakers include DEA agents\, families who have lost loved ones\, Valley Hope\, SUD Panel and personal stories from those recovering from addiction
X-ALT-DESC;FMTTYPE=text/html:An evening event to learn more about the current overdose and substance use disorder crisis threatening our families and community.&nbsp\; Resources will be available to help improve awareness\, along with providing recovery options for loved ones in need.<br />\n<br />\nSpeakers include DEA agents\, families who have lost loved ones\, Valley Hope\, SUD Panel and personal stories from those recovering from addiction
LOCATION:Grapevine Convention Center 1209 S. Main St. Grapevine\, TX 76051
UID:e.770.197285
SEQUENCE:3
DTSTAMP:20260425T000229Z
URL:https://business.grapevinechamber.org/events/details/fentanyl-poisoning-overdose-and-sud-s-awareness-community-event-197285
END:VEVENT

END:VCALENDAR
