BEGIN:VCALENDAR
VERSION:2.0
PRODID:-//ChamberMaster//Event Calendar 2.0//EN
METHOD:PUBLISH
X-PUBLISHED-TTL:P3D
REFRESH-INTERVAL:P3D
CALSCALE:GREGORIAN
BEGIN:VEVENT
DTSTART;VALUE=DATE:20121106
DTEND;VALUE=DATE:20130213
TRANSP:TRANSPARENT
X-MICROSOFT-CDO-ALLDAYEVENT:TRUE
SUMMARY:FAT TUESDAYS
DESCRIPTION:Every Tuesday until Fat Tuesday 2013 is a Fat Tuesday celebration! $2.00 Hurricane's\, draft Bud Light and Miller Light\, and $2.00 Popcorn\, fried pickles\, and fried crawfish tails! Come join in the festivities and celebration!
X-ALT-DESC;FMTTYPE=text/html:Every Tuesday until Fat Tuesday 2013 is a Fat Tuesday celebration! $2.00 Hurricane&#39\;s\, draft Bud Light and&nbsp\;Miller Light\, and $2.00 Popcorn\, fried pickles\, and fried crawfish tails! Come join in the festivities and celebration! 
LOCATION:Joe's Crab Shack in Grapevine
UID:e.770.163078
SEQUENCE:3
DTSTAMP:20260420T105710Z
URL:https://business.grapevinechamber.org/events/details/fat-tuesdays-11-06-2012-163078
END:VEVENT

END:VCALENDAR
