BEGIN:VCALENDAR
VERSION:2.0
PRODID:-//ChamberMaster//Event Calendar 2.0//EN
METHOD:PUBLISH
X-PUBLISHED-TTL:P3D
REFRESH-INTERVAL:P3D
CALSCALE:GREGORIAN
BEGIN:VEVENT
DTSTART:20230821T230000Z
DTEND:20230822T010000Z
X-MICROSOFT-CDO-ALLDAYEVENT:FALSE
SUMMARY:EVO Entertainment - Merry Mixer
DESCRIPTION:Calling all corporate event planners! Get a sneak peek into the ultimate party experience at this exclusive event created for meeting planners like you! Enjoy samples from our banquet menu and have a blast with our top-notch bowling lanes and arcade games. By attending this event\, you will automatically enter our business card raffle and receive early bird exclusive discounts if you book your event in advance. \n\n \n\nSpots are limited\, so don't wait! For more information and to RSVP\, click the link below \n\nhttps://www.eventbrite.com/e/673336366197\n\n \n\nRSVP by Tuesday\, August 1st -- can't wait to see you there! \n\n \n\nPlease reach out if you have any additional questions.
X-ALT-DESC;FMTTYPE=text/html:<p><span style="font-family:arial\,helvetica\,sans-serif">Calling all corporate event planners! Get a sneak peek into the ultimate party experience at this exclusive event created for meeting planners like you! Enjoy samples from our banquet menu and have a blast with our top-notch bowling lanes and arcade games.&nbsp\;By attending this event\, you will automatically enter our business card raffle and receive early bird exclusive discounts if you book your event in advance.&nbsp\;</span></p>\n\n<p>&nbsp\;</p>\n\n<p><span style="font-family:arial\,helvetica\,sans-serif">Spots are limited\, so don&#39\;t wait! For more information and to RSVP\, click the link below&nbsp\;</span></p>\n\n<p><span style="font-family:arial\,helvetica\,sans-serif"><a href="https://www.eventbrite.com/e/673336366197" rel="noreferrer noopener" style="box-sizing: border-box\; text-decoration: none\; color: rgb(0\, 134\, 240)\; transition: all 0.2s linear\; box-shadow: none\; font-weight: 800\; overflow-wrap: break-word\; outline: 0px\;">https://www.eventbrite.com/e/673336366197</a></span></p>\n\n<p>&nbsp\;</p>\n\n<p><span style="font-family:arial\,helvetica\,sans-serif">RSVP by&nbsp\;<span dir="ltr" style="font-size:inherit !important">Tuesday\, August 1st</span>&nbsp\;-- can&#39\;t wait to see you there!&nbsp\;</span></p>\n\n<p>&nbsp\;</p>\n\n<p><span style="font-family:arial\,helvetica\,sans-serif">Please reach out if you have any additional questions.</span></p>\n
LOCATION:EVO Entertainment Southlake
UID:e.770.197314
SEQUENCE:3
DTSTAMP:20260424T221410Z
URL:https://business.grapevinechamber.org/events/details/evo-entertainment-merry-mixer-197314
END:VEVENT

END:VCALENDAR
