BEGIN:VCALENDAR
VERSION:2.0
PRODID:-//ChamberMaster//Event Calendar 2.0//EN
METHOD:PUBLISH
X-PUBLISHED-TTL:P3D
REFRESH-INTERVAL:P3D
CALSCALE:GREGORIAN
BEGIN:VEVENT
DTSTART:20130220T003000Z
DTEND:20130220T013000Z
X-MICROSOFT-CDO-ALLDAYEVENT:FALSE
SUMMARY:Event at Eye Consultants of Texas\, PA
DESCRIPTION:February 14 is a special day for your heart. We're making February 19 a special day for your eyes at our Reasons To Love LASIK event from 6:30 to 7:30 PM. Led by one of our expert doctors\, you'll learn all about what LASIK is like\, including costs\, the procedure and generally what to expect. It only lasts 60 minutes\, and we're offering $300 off LASIK for anyone attending who schedules an evaluation the night of the event (must be 18 years or older to attend). We'd love to have you as our guest. Call today to reserve your space.
X-ALT-DESC;FMTTYPE=text/html:<strong><span style="letter-spacing: 0px\; color: rgb(35\, 35\, 35)\; font-family: Arial\; ">February 14 is a special day for your heart. We&rsquo\;re making February 19 a special day for your eyes at our </span><i style="letter-spacing: 0px\; color: rgb(35\, 35\, 35)\; font-family: Arial\; ">Reasons To Love LASIK</i></strong><span style="letter-spacing: 0px\; color: rgb(35\, 35\, 35)\; font-family: Arial\; "><strong> event from 6:30 to 7:30 PM. </strong>Led by one of our expert doctors\, you&rsquo\;ll learn all about what LASIK is like\, including costs\, the procedure and generally what to expect. It only lasts 60 minutes\, and we&#39\;re offering $300 off LASIK for anyone attending who schedules an evaluation the night of the event (must be 18 years or older to attend). We&#39\;d love to have you as our guest. Call today to reserve your space.</span>
LOCATION:Eye Consultants of Texas 2201 Westgate Plaza\, Grapevine\, TX 76051
UID:e.770.163368
SEQUENCE:3
DTSTAMP:20260421T194225Z
URL:https://business.grapevinechamber.org/events/details/event-at-eye-consultants-of-texas-pa-02-19-2013-163368
END:VEVENT

END:VCALENDAR
