BEGIN:VCALENDAR
VERSION:2.0
PRODID:-//ChamberMaster//Event Calendar 2.0//EN
METHOD:PUBLISH
X-PUBLISHED-TTL:P3D
REFRESH-INTERVAL:P3D
CALSCALE:GREGORIAN
BEGIN:VEVENT
DTSTART:20140320T200000Z
DTEND:20140320T220000Z
X-MICROSOFT-CDO-ALLDAYEVENT:FALSE
SUMMARY:Event at Chateau on Wildbriar Lake - Luxury Senior Living
DESCRIPTION:Everyone is going green these days and the Chateau is no exception. We'll shamrock the house in St. Patrick's Day style. The Luck O' the Irish must already be spreading because you're invited! Don't miss out on a chance to tour our luxurious community and discover what makes us the first choice for active senior living.
X-ALT-DESC;FMTTYPE=text/html:Everyone is going green these days and the Chateau is no exception. We&#39\;ll shamrock the house in St. Patrick&#39\;s Day style. The Luck O&#39\; the Irish must already be spreading because you&#39\;re invited! Don&#39\;t miss out on a chance to tour our luxurious community and discover what makes us the first choice for active senior living.
LOCATION:1515 Hard Rock Lake Irving\, Texas 75061 972-399-4800
UID:e.770.166781
SEQUENCE:3
DTSTAMP:20260420T182356Z
URL:https://business.grapevinechamber.org/events/details/event-at-chateau-on-wildbriar-lake-luxury-senior-living-03-20-2014-166781
END:VEVENT

END:VCALENDAR
