BEGIN:VCALENDAR
VERSION:2.0
PRODID:-//ChamberMaster//Event Calendar 2.0//EN
METHOD:PUBLISH
X-PUBLISHED-TTL:P3D
REFRESH-INTERVAL:P3D
CALSCALE:GREGORIAN
BEGIN:VEVENT
DTSTART:20260328T140000Z
DTEND:20260328T150000Z
X-MICROSOFT-CDO-ALLDAYEVENT:FALSE
SUMMARY:En Español: Tour del Museo | Spanish Tour
DESCRIPTION:Hello /  Hola! Join us for a Spanish-language tour of the House of Shine museum! Experience the power of positivity and self-discovery for free.  Ven a descubrir c mo Brillas! Ven a experimentar el poder del brillo de forma GRATUITA. House of Shine es un museo experiencial de descubrimiento propio\, dise ado para visitantes de 5 a 95 a os. Su entrada gratuita programada le permite ingresar al museo para una visita autoguiada. Name of Event En Espa ol: Tour del Museo (Spanish Tour) Dates / Times March 28\, 2026   9:00 AM   10:00 AM Location House of Shine 334 S. Barton Street Grapevine\, TX 76051 Event Description Los tours en espa ol se llevan a cabo una vez al mes\, a las 9:00 AM. La entrada a House of Shine (y la exhibici n) es actualmente gratuita debido a la generosidad de nuestros donantes. Si desea m s informaci n sobre tours en grupo (m s de 6 personas) o experiencias personalizadas\, cont ctenos. Una brillante idea: Aunque este boleto para House of Shine es gratis\, si sus planes cambian\, aseg rese de cancelar para que otra persona pueda disfrutar del poder de la positividad. *Los ni os menores de 11 a os deben estar acompa ados por un padre o un adulto responsable en todo momento durante la visita al museo. Event Link Eventbrite: https://www.eventbrite.com/e/1975310448726?aff=oddtdtcreator Starting and Ending Time for Each Day 9:00 AM   10:00 AM Cost Free. Registration is required via the Eventbrite link above. Gratis. Se requiere registraci n a trav s del enlace de Eventbrite. Age Guidelines Visitors 5 95 *Children under 11 must be accompanied by a parent or responsible adult at all times. Contact for More Information Phone: 817-601-8850 Email: info@houseofshine.com House of Shine is a nonprofit leadership development organization. Our mission is to strengthen communities by growing confident\, self-aware\, resilient leaders who understand who they are and why their contributions to the world matter. A trav s de nuestro museo interactivo de autodescubrimiento\, un plan de estudios experiencial\, programas de desarrollo personal y actividades de construcci n comunitaria\, empoderamos a los l deres para que descubran su SHINE las Fortalezas\, Pasatiempos\, Intereses e Irritantes\, Necesidades y Experiencias que hacen que cada uno de nosotros sea  nico.  Le esperamos! / We can't wait to welcome you! Warmly\, House of Shine 817-601-8850 info@houseofshine.com www.houseofshine.org
X-ALT-DESC;FMTTYPE=text/html:Hello / &iexcl\;Hola! Join us for a Spanish-language tour of the House of Shine museum! Experience the power of positivity and self-discovery&mdash\;for free. &iexcl\;Ven a descubrir c&oacute\;mo Brillas! Ven a experimentar el poder del brillo de forma GRATUITA. House of Shine es un museo experiencial de descubrimiento propio\, dise&ntilde\;ado para visitantes de 5 a 95 a&ntilde\;os. Su entrada gratuita programada le permite ingresar al museo para una visita autoguiada. Name of Event En Espa&ntilde\;ol: Tour del Museo (Spanish Tour) Dates / Times March 28\, 2026 &bull\; 9:00 AM &ndash\; 10:00 AM Location House of Shine 334 S. Barton Street Grapevine\, TX 76051 Event Description Los tours en espa&ntilde\;ol se llevan a cabo una vez al mes\, a las 9:00 AM. La entrada a House of Shine (y la exhibici&oacute\;n) es actualmente gratuita debido a la generosidad de nuestros donantes. Si desea m&aacute\;s informaci&oacute\;n sobre tours en grupo (m&aacute\;s de 6 personas) o experiencias personalizadas\, cont&aacute\;ctenos. Una brillante idea: Aunque este boleto para House of Shine es gratis\, si sus planes cambian\, aseg&uacute\;rese de cancelar para que otra persona pueda disfrutar del poder de la positividad. *Los ni&ntilde\;os menores de 11 a&ntilde\;os deben estar acompa&ntilde\;ados por un padre o un adulto responsable en todo momento durante la visita al museo. Event Link Eventbrite: https://www.eventbrite.com/e/1975310448726?aff=oddtdtcreator Starting and Ending Time for Each Day 9:00 AM &ndash\; 10:00 AM Cost Free. Registration is required via the Eventbrite link above. Gratis. Se requiere registraci&oacute\;n a trav&eacute\;s del enlace de Eventbrite. Age Guidelines Visitors 5&ndash\;95 *Children under 11 must be accompanied by a parent or responsible adult at all times. Contact for More Information Phone: 817-601-8850 Email: info@houseofshine.com House of Shine is a nonprofit leadership development organization. Our mission is to strengthen communities by growing confident\, self-aware\, resilient leaders who understand who they are&mdash\;and why their contributions to the world matter. A trav&eacute\;s de nuestro museo interactivo de autodescubrimiento\, un plan de estudios experiencial\, programas de desarrollo personal y actividades de construcci&oacute\;n comunitaria\, empoderamos a los l&iacute\;deres para que descubran su SHINE&mdash\;las Fortalezas\, Pasatiempos\, Intereses e Irritantes\, Necesidades y Experiencias que hacen que cada uno de nosotros sea &uacute\;nico. &iexcl\;Le esperamos! / We can&rsquo\;t wait to welcome you! Warmly\, House of Shine 817-601-8850 info@houseofshine.com www.houseofshine.org
LOCATION:House of Shine 334 S. Barton Street Grapevine\, TX 76051
UID:e.770.204482
SEQUENCE:3
DTSTAMP:20260422T140745Z
URL:https://business.grapevinechamber.org/events/details/en-espa&#241;ol-tour-del-museo-spanish-tour-03-28-2026-204482
END:VEVENT

END:VCALENDAR
