BEGIN:VCALENDAR
VERSION:2.0
PRODID:-//ChamberMaster//Event Calendar 2.0//EN
METHOD:PUBLISH
X-PUBLISHED-TTL:P3D
REFRESH-INTERVAL:P3D
CALSCALE:GREGORIAN
BEGIN:VEVENT
DTSTART:20121005T133000Z
DTEND:20121005T183000Z
X-MICROSOFT-CDO-ALLDAYEVENT:FALSE
SUMMARY:Empowering Seniors Expo 2012
DESCRIPTION:Empowering Seniors 2012\n\nFor anyone 50 years of age and older and anyone who is a caregiver for older relatives or friends...\n\n\n\nHealth Screenings\n\nVendors\n\nSeminars\n\nDoor prizes\n\nLunch
X-ALT-DESC;FMTTYPE=text/html:Empowering Seniors 2012<br />\nFor anyone 50 years of age and older and&nbsp\;anyone who&nbsp\;is a&nbsp\;caregiver for older relatives or friends...<br />\n<br />\nHealth Screenings<br />\nVendors<br />\nSeminars<br />\nDoor prizes<br />\nLunch
LOCATION:Campus West Highway 157 and Highway 183 - Bedford
UID:e.770.162795
SEQUENCE:3
DTSTAMP:20260422T110432Z
URL:https://business.grapevinechamber.org/events/details/empowering-seniors-expo-2012-10-05-2012-162795
END:VEVENT

END:VCALENDAR
