BEGIN:VCALENDAR
VERSION:2.0
PRODID:-//ChamberMaster//Event Calendar 2.0//EN
METHOD:PUBLISH
X-PUBLISHED-TTL:P3D
REFRESH-INTERVAL:P3D
CALSCALE:GREGORIAN
BEGIN:VEVENT
DTSTART:20121128T140000Z
DTEND:20121128T150000Z
X-MICROSOFT-CDO-ALLDAYEVENT:FALSE
SUMMARY:Economic Development Partnership Meeting
DESCRIPTION:A partnership between the businesses who invest in the Chamber and the City of Grapevine to promote the area for new business\, business expansion and retention as well as to identify the concerns of local businesses and address and resolve those through cooperation\, education and support.
X-ALT-DESC;FMTTYPE=text/html:A partnership between the businesses who invest in the Chamber and the City of Grapevine to promote the area for new business\, business expansion and retention as well as to identify the concerns of local businesses and address and resolve those through cooperation\, education and support.
LOCATION:City Hall 2nd Floor City Manager's Conference Room 200 S. Main St. Grapevine\, TX 76051
UID:e.770.162473
SEQUENCE:3
DTSTAMP:20260420T105710Z
URL:https://business.grapevinechamber.org/events/details/economic-development-partnership-meeting-11-28-2012-162473
END:VEVENT

END:VCALENDAR
