BEGIN:VCALENDAR
VERSION:2.0
PRODID:-//ChamberMaster//Event Calendar 2.0//EN
METHOD:PUBLISH
X-PUBLISHED-TTL:P3D
REFRESH-INTERVAL:P3D
CALSCALE:GREGORIAN
BEGIN:VEVENT
DTSTART:20190828T130000Z
DTEND:20190828T140000Z
X-MICROSOFT-CDO-ALLDAYEVENT:FALSE
SUMMARY:Economic Development Partnership Meeting
DESCRIPTION:A partnership between the businesses who invest in the Chamber and the City of Grapevine to promote the area for new business\, business expansion and retention as well as to identify the concerns of local businesses and address and resolve those through cooperation\, education and support.
X-ALT-DESC;FMTTYPE=text/html:A partnership between the businesses who invest in the Chamber and the City of Grapevine to promote the area for new business\, business expansion and retention as well as to identify the concerns of local businesses and address and resolve those through cooperation\, education and support.
LOCATION:Gary and Cynthia Blankenship Business Center 200 Vine. St. Grapevine\, TX 76262
UID:e.770.165554
SEQUENCE:3
DTSTAMP:20260421T054513Z
URL:https://business.grapevinechamber.org/events/details/economic-development-partnership-meeting-08-28-2019-165554
END:VEVENT

END:VCALENDAR
