BEGIN:VCALENDAR
VERSION:2.0
PRODID:-//ChamberMaster//Event Calendar 2.0//EN
METHOD:PUBLISH
X-PUBLISHED-TTL:P3D
REFRESH-INTERVAL:P3D
CALSCALE:GREGORIAN
BEGIN:VEVENT
DTSTART:20220829T150000Z
DTEND:20220830T000000Z
X-MICROSOFT-CDO-ALLDAYEVENT:FALSE
SUMMARY:Eagles Challenge Hole-in-One Golf Tournament Benefitting Kids Matter
DESCRIPTION:Eagles Hole-in-One Golf Tournament\n\nAugust 29th\, 2022\n\nTimarron Country Club \n\n \n\nEagles Challenge Is A Hole-In-One Golf Tournament\n\n\n\n  Each player shoots for a Hole-in-One on all 18 holes. Distances range from 110   155 yards.\n\n  Each player shoots for a Closest to Pin prize on 18 holes. A Hole-in-One is considered Closest to Pin.\n\n  Hole-in-One prizes are valued at $50\,000 or above!\n\n$1\,000\,000 Hole-In-One prize on Hole 19!\n\n  A total of 25 players will go to the 19th hole for a chance to win $1\,000\,000! Players will be selected from Hole-in-One winners\, Closest to Pin winners\, Highest Bids\, and Randomly Selected Players.\n\n  Only a short 155 yards to the cup!\n\n  Closest to the Pin prize will be awarded.\n\nEvery $100 KMI nets from the tournament generates an estimated $250 in new clothes and shoes for a child in need.\n\nThrough our long standing partnership with KOHLS department stores\, 12\,400 children have received new clothing valued at over $2\,790\,000.\n\n\n\nOur goal in 2022 is to serve 2\,000 children and provide over $450\,000 in needed clothing.\n\n \n\nEVENT SCHEDULE\n\n10:30 am to Noon   Registration\n\n12:15 pm   Tee Off\n\n5:00 pm   $1\,000\,000 19th Hole Tee Off\n\n4:00 pm   7:00 pm Watch Party and Awards\n\n\n\nVISIT EAGLESCHALLENGE.ORG for Player Registration\, Sponsorship Opportunities\, and Volunteer Opportunities!
X-ALT-DESC;FMTTYPE=text/html:<p style="text-align: center\;"><span style="color:#0e3192"><em><u><strong>Eagles Hole-in-One Golf Tournament<br />\nAugust 29th\, 2022<br />\nTimarron Country Club&nbsp\;</strong></u></em></span><br />\n&nbsp\;</p>\n\n<p><strong><span style="color:#0e3192"><em>Eagles Challenge </em></span></strong><em><strong>Is A Hole-In-One Golf Tournament</strong></em><br />\n<br />\n<em>&bull\; Each player shoots for a Hole-in-One on all 18 holes. Distances range from 110 &ndash\; 155 yards.</em><br />\n<em>&bull\; Each player shoots for a Closest to Pin prize on 18 holes. A Hole-in-One is considered Closest to Pin.</em><br />\n<em>&bull\; Hole-in-One prizes are valued at </em><em>$50\,000 </em><em>or above!</em></p>\n\n<p><strong><span style="color:#0e3192"><em>$1\,000\,000 </em></span><em>Hole-In-One prize on Hole 19!</em></strong></p>\n\n<p><em>&bull\; A total of 25 players will go to the 19th hole for a chance to win $1\,000\,000! Players will be selected&nbsp\;</em><em>from Hole-in-One winners\, Closest to Pin winners\, Highest Bids\, and Randomly Selected Players.</em><br />\n<em>&bull\; Only a short 155 yards to the cup!</em><br />\n<em>&bull\; Closest to the Pin prize will be awarded.</em></p>\n\n<p><strong><em>Every $100 KMI nets from the tournament generates an e</em><em>stimated $250 in new clothes and shoes for a child in need.</em></strong></p>\n\n<p><strong>Through our long standing partnership with KOHLS department stores\, 12\,400 children have received new clothing valued&nbsp\;at over $2\,790\,000.<br />\n<br />\nOur goal in 2022 is to serve 2\,000 children and provide over $450\,000 in needed clothing.</strong><br />\n&nbsp\;</p>\n\n<p><u>EVENT SCHEDULE</u><br />\n<em>10:30 am to Noon &ndash\; Registration</em><br />\n<em>12:15 pm &ndash\; Tee Off</em><br />\n<em>5:00 pm &ndash\; $1\,000\,000 19th Hole Tee Off</em><br />\n<em>4:00 pm &ndash\; 7:00 pm Watch Party and Awards</em><br />\n<br />\n<em>VISIT<u><strong> EAGLESCHALLENGE.ORG</strong></u> for Player Registration\, Sponsorship Opportunities\, and Volunteer&nbsp\;Opportunities!&nbsp\;</em></p>\n\n<p>&nbsp\;</p>\n
LOCATION:Timarron Country Club 1400 Byron Nelson Pkwy Southlake\, TX\, 76092
UID:e.770.195387
SEQUENCE:3
DTSTAMP:20260421T141645Z
URL:https://business.grapevinechamber.org/events/details/eagles-challenge-hole-in-one-golf-tournament-benefitting-kids-matter-08-29-2022-195387
END:VEVENT

END:VCALENDAR
