BEGIN:VCALENDAR
VERSION:2.0
PRODID:-//ChamberMaster//Event Calendar 2.0//EN
METHOD:PUBLISH
X-PUBLISHED-TTL:P3D
REFRESH-INTERVAL:P3D
CALSCALE:GREGORIAN
BEGIN:VEVENT
DTSTART:20260111T170000Z
DTEND:20260111T220000Z
X-MICROSOFT-CDO-ALLDAYEVENT:FALSE
SUMMARY:Dream Bowl
DESCRIPTION:The Dream Bowl is a College Football All-Star Showcase of the best players from across the country. The game and the series of events are a celebration of the excellence\, commitment\, and sacrifice made by the players and their families.
X-ALT-DESC;FMTTYPE=text/html:The Dream Bowl is a College Football All-Star Showcase of the best players from across the country. The game and the series of events are a celebration of the excellence\, commitment\, and sacrifice made by the players and their families.
LOCATION:Miller Lite House/AT&T Stadium
UID:e.770.203650
SEQUENCE:3
DTSTAMP:20260422T174619Z
URL:https://business.grapevinechamber.org/events/details/dream-bowl-203650
END:VEVENT

END:VCALENDAR
