BEGIN:VCALENDAR
VERSION:2.0
PRODID:-//ChamberMaster//Event Calendar 2.0//EN
METHOD:PUBLISH
X-PUBLISHED-TTL:P3D
REFRESH-INTERVAL:P3D
CALSCALE:GREGORIAN
BEGIN:VEVENT
DTSTART:20220813T233000Z
DTEND:20220814T020000Z
X-MICROSOFT-CDO-ALLDAYEVENT:FALSE
SUMMARY:DOWN & DERBY for School Supplies Car Meet for a Cause- Hosted by Five Star Subaru Grapevine
DESCRIPTION:Join us! DOWN & DERBY for School Supplies \nThis Saturday August 13th from 7-9pm!!!\n\nIt's Subaru Loves Learning month and what better way to celebrate than by helping donate school supplies for our Adopt-A-Classroom partner school and support the local Boy Scouts of America Longhorn Council's Annual Pinewood Derby Race/Fundraiser. \n\nJoin us at Five Star Subaru Grapevine with our friends Kraken Motorsports\, Dotson Tuning\, Team Boxer Squad\, and JDM performance car enthusiasts for a fun evening of family friendly derby races. Everyone's excited to get back together for a fun time at our ongoing car meets and all for a great cause. \n\nKona Ice will be served while supplies last courtesy of Five Star Subaru. We will be collecting school supplies throughout the month of August\, so drive on by the event or pop on into Five Star Subaru of Grapevine to say hello and drop off your donations. Open to ALL Imports & Euros! Limited spots available\, so come early! \n\n\n\nThis promises to be a car meet like no other! Meet at Five Star Subaru Grapevine with fellow JDM Import & Euro car lovers as they showcase their vehicles. Let's continue to help support our local Community! Keep cool with some KONA ICE while DJ TRATES shreds some tunes!\n\n \n\nTHE PERSON WHO DONATES THE MOST AND POSTS ON SOCIAL MEDIA WITHIN 24 HOURS OF THE EVENT WILL GET AN INCREDIBLE SPOT AT THE NEXT CAR MEET IN OCTOBER! WE'RE TALKING THE ABILITY TO PARK YOUR CAR ON A PLATFORM\, PEOPLE!\n\n \n\n \n\nWe hope to see you at our DOWN & DERBY car meet on August 13th from 7-9pm. There will be giveaways\, DJ Trates\, and awesome people! 1st\, 2nd\, & 3rd place Prizes will be presented to winners of the Boy Scouts Pinewood Derby Race. See ya at Five Star Subaru!!\n\n\n\n*If there is a chance of rain\, please be advised that this event will take place the following Saturday\, if weather permits.
X-ALT-DESC;FMTTYPE=text/html:<div style="background:#FEFEFE\; border:none\; padding:0in 0in 9.0pt 0in">\n<h1 style="text-align:center">Join us! DOWN &amp\; DERBY for School Supplies&nbsp\;</h1>\n<span style="font-size:16px"><span style="font-family:arial\,helvetica\,sans-serif"><a href="https://www.facebook.com/SubaruofGrapevine/?__cft__%5b0%5d=AZVz2CvE7GAipk2wkGBT7JT6EBTZjrjNj_nys-RVDA-QXLWNLPaZ9mSHoDpuIUYtJfUt7xeZIN2iSbNTGk4ggijp_QP8OAyHs_bdA-stIRO7N1QD3T8LrJOEMA9km3ch-N0IeLBFT7wHgzgnY0KyrHx3&amp\;__tn__=kK-R"><span style="color:#000000">This Saturday August 13th from 7-9pm!!!<br />\nIt&#39\;s Subaru Loves Learning month and what better way to celebrate than by helping donate school supplies for our Adopt-A-Classroom partner school&nbsp\;</span></a></span></span><a href="https://www.facebook.com/SubaruofGrapevine/?__cft__%5b0%5d=AZVz2CvE7GAipk2wkGBT7JT6EBTZjrjNj_nys-RVDA-QXLWNLPaZ9mSHoDpuIUYtJfUt7xeZIN2iSbNTGk4ggijp_QP8OAyHs_bdA-stIRO7N1QD3T8LrJOEMA9km3ch-N0IeLBFT7wHgzgnY0KyrHx3&amp\;__tn__=kK-R" style="font-family: arial\, helvetica\, sans-serif\; font-size: 16px\;"><span style="color:rgb(0\, 0\, 0)">and support the local Boy Scouts of America Longhorn Council&#39\;s Annual Pinewood Derby Race/Fundraiser.</span></a><span style="font-size:16px"><span style="font-family:arial\,helvetica\,sans-serif"><a href="https://www.facebook.com/SubaruofGrapevine/?__cft__%5b0%5d=AZVz2CvE7GAipk2wkGBT7JT6EBTZjrjNj_nys-RVDA-QXLWNLPaZ9mSHoDpuIUYtJfUt7xeZIN2iSbNTGk4ggijp_QP8OAyHs_bdA-stIRO7N1QD3T8LrJOEMA9km3ch-N0IeLBFT7wHgzgnY0KyrHx3&amp\;__tn__=kK-R"><span style="color:#000000"> </span></a></span></span><br />\n<a href="https://www.facebook.com/SubaruofGrapevine/?__cft__%5b0%5d=AZVz2CvE7GAipk2wkGBT7JT6EBTZjrjNj_nys-RVDA-QXLWNLPaZ9mSHoDpuIUYtJfUt7xeZIN2iSbNTGk4ggijp_QP8OAyHs_bdA-stIRO7N1QD3T8LrJOEMA9km3ch-N0IeLBFT7wHgzgnY0KyrHx3&amp\;__tn__=kK-R" style="font-family: arial\, helvetica\, sans-serif\; font-size: 16px\;"><span style="color:rgb(0\, 0\, 0)">Join us at Five Star Subaru Grapevine with our friends Kraken Motorsports\, Dotson Tuning\, Team Boxer Squad\, and JDM performance car enthusiasts for a fun evening of family friendly derby races</span></a><span style="background-color:rgb(254\, 254\, 254)">.</span><span style="color:rgb(0\, 0\, 0)\; font-family:arial\,helvetica\,sans-serif\; font-size:16px">&nbsp\;</span><span style="background-color:rgb(254\, 254\, 254)\; color:rgb(0\, 0\, 0)\; font-family:arial\,helvetica\,sans-serif\; font-size:16px">Everyone&rsquo\;s excited to get back together for a fun time at our ongoing car meets and all for a great cause.</span><span style="color:rgb(0\, 0\, 0)\; font-family:arial\,helvetica\,sans-serif\; font-size:16px">&nbsp\;<br />\nKona Ice will be served while supplies last courtesy of Five Star Subaru. We will be collecting school supplies throughout the month of August\, so drive on by the event or pop on into Five Star Subaru of Grapevine to say hello and drop off your donations. Open to ALL Imports &amp\; Euros! Limited spots available\, so come early!&nbsp\;</span></div>\n\n<div style="background:#FEFEFE\; border:none\; padding:0in 0in 9.0pt 0in"><br />\n<span style="font-size:16px"><span style="font-family:arial\,helvetica\,sans-serif">This promises to be a car meet like no other! Meet at Five Star Subaru Grapevine with fellow JDM Import &amp\; Euro car lovers as they showcase their vehicles. Let&rsquo\;s continue to help support our local Community! Keep cool with some KONA ICE while DJ TRATES shreds some tunes!</span></span><br />\n<span style="font-size:16px"><span style="font-family:arial\,helvetica\,sans-serif">&nbsp\;<br />\n<strong>THE PERSON WHO DONATES THE MOST AND POSTS ON SOCIAL MEDIA WITHIN 24 HOURS OF THE EVENT WILL GET AN INCREDIBLE SPOT AT THE NEXT CAR MEET IN OCTOBER! WE&rsquo\;RE TALKING THE ABILITY TO PARK YOUR CAR ON A PLATFORM\, PEOPLE!</strong><br />\n&nbsp\;<br />\n&nbsp\;<br />\nWe hope to see you at our DOWN &amp\; DERBY car meet on August 13<sup>th</sup><span style="background-color:rgb(254\, 254\, 254)\; color:rgb(0\, 0\, 0)">&nbsp\;from 7-9pm. There will be giveaways\, DJ Trates\,&nbsp\;</span></span></span><span style="background-color:rgb(254\, 254\, 254)\; color:rgb(0\, 0\, 0)\; font-family:arial\,helvetica\,sans-serif\; font-size:16px">and awesome people!</span><span style="font-size:16px"><span style="font-family:arial\,helvetica\,sans-serif"><span style="background-color:rgb(254\, 254\, 254)\; color:rgb(0\, 0\, 0)">&nbsp\;1st\, 2nd\, &amp\; 3rd place Prizes will be presented to winners of the Boy Scouts Pinewood Derby Race. See ya at Five Star Subaru!!</span></span></span><br />\n<br />\n<span style="font-size:medium"><span style="font-size:small"><strong>*If there is a chance of rain\, please be advised that this event will take place the following Saturday\, if weather permits.</strong>&nbsp\;</span></span></div>\n
LOCATION:Five Star Subaru Grapevine 2651 William D. Tate Avenue Grapevine\, TX 76051
UID:e.770.195475
SEQUENCE:3
DTSTAMP:20260425T194343Z
URL:https://business.grapevinechamber.org/events/details/down-derby-for-school-supplies-car-meet-for-a-cause-hosted-by-five-star-subaru-grapevine-195475
END:VEVENT

END:VCALENDAR
