BEGIN:VCALENDAR
VERSION:2.0
PRODID:-//ChamberMaster//Event Calendar 2.0//EN
METHOD:PUBLISH
X-PUBLISHED-TTL:P3D
REFRESH-INTERVAL:P3D
CALSCALE:GREGORIAN
BEGIN:VEVENT
DTSTART:20130327T170000Z
DTEND:20130327T180000Z
X-MICROSOFT-CDO-ALLDAYEVENT:FALSE
SUMMARY:Defeat Allergies Lunch and Learn
DESCRIPTION:You know sneezing and watery eyes are symptoms of allergies but did you also know \n\n \n\nHives\, eczema\, and abdominal bloating can be as well?\n\n\n\nJoin Dr. Kotsanis for a FREE lunch as he explains how to breathe easy\, stop sneezing and live without Allergies!!!
X-ALT-DESC;FMTTYPE=text/html:<span style="language:EN\;"><span style="color:#339933\;"><span style="font-family:century gothic\;"><span style="font-size:14.0pt\;">You know sneezing and watery eyes are symptoms of allergies but did you also know&hellip\;</span></span></span></span><br />\n&nbsp\;<br />\n<span style="language:EN\;"><span style="color:#339933\;"><span style="font-family:century gothic\;"><span style="font-size:14.0pt\;">Hives\, eczema\, </span></span></span></span><span style="language:EN\;"><span style="color:#339933\;"><span style="font-family:century gothic\;"><span style="font-size:14.0pt\;">and abdominal bloating </span></span></span></span><span style="language:EN\;"><span style="color:#339933\;"><span style="font-family:century gothic\;"><span style="font-size:14.0pt\;">can be as well?<br />\n<br />\nJoin Dr. Kotsanis for a FREE lunch as he explains how to breathe easy\, stop sneezing and live without Allergies!!!</span></span></span></span><br />\n&nbsp\;
LOCATION:Kotsanis Institute
UID:e.770.163456
SEQUENCE:3
DTSTAMP:20260421T180050Z
URL:https://business.grapevinechamber.org/events/details/defeat-allergies-lunch-and-learn-03-27-2013-163456
END:VEVENT

END:VCALENDAR
