BEGIN:VCALENDAR
VERSION:2.0
PRODID:-//ChamberMaster//Event Calendar 2.0//EN
METHOD:PUBLISH
X-PUBLISHED-TTL:P3D
REFRESH-INTERVAL:P3D
CALSCALE:GREGORIAN
BEGIN:VEVENT
DTSTART:20121026T200000Z
DTEND:20121027T150000Z
X-MICROSOFT-CDO-ALLDAYEVENT:FALSE
SUMMARY:Dallas Vintage Clothing and Jewelry Show
DESCRIPTION:Dozens of dealers from around the U.S. bring their vintage clothing\, jewelry and accessories to the Grapevine Convention Center for the region's premiere vintage fashion event.
X-ALT-DESC;FMTTYPE=text/html:<span style="font-family: arial\, sans-serif\; font-size: 15.555556297302246px\; ">Dozens of dealers from around the U.S. bring their vintage clothing\, jewelry and accessories to the Grapevine Convention Center for the region&#39\;s premiere vintage fashion event.</span>
LOCATION:Grapevine Convention Center
UID:e.770.162991
SEQUENCE:3
DTSTAMP:20260422T110909Z
URL:https://business.grapevinechamber.org/events/details/dallas-vintage-clothing-and-jewelry-show-10-26-2012-162991
END:VEVENT

END:VCALENDAR
