BEGIN:VCALENDAR
VERSION:2.0
PRODID:-//ChamberMaster//Event Calendar 2.0//EN
METHOD:PUBLISH
X-PUBLISHED-TTL:P3D
REFRESH-INTERVAL:P3D
CALSCALE:GREGORIAN
BEGIN:VEVENT
DTSTART:20121202T190000Z
DTEND:20121202T210000Z
X-MICROSOFT-CDO-ALLDAYEVENT:FALSE
SUMMARY:Creative Watercolor Sunday
DESCRIPTION:Creative Watercolor Sunday Afternoons\n\n\n\nDesigned for folks that want to relax and create\, no watercolor experience required. We will have a new lesson every other Sunday\, from 1:00pm until 3:00 pm\n\n\n\n$15.00 class fee\, bring your own supplies or use mine for an additional five dollar fee.\n\n\n\nEmail Sharen by Friday Nov. 30th\, at sharen@gypsymusestudio.com\, to sign up.
X-ALT-DESC;FMTTYPE=text/html:<u><strong>Creative Watercolor Sunday Afternoons</strong></u><br />\n<br />\nDesigned for folks that want to relax and create\, no watercolor experience required. We will have a new lesson every other Sunday\, from 1:00pm until 3:00 pm<br />\n<br />\n$15.00 class fee\, bring your own supplies or use mine for an additional five dollar fee.<br />\n<br />\nEmail Sharen by Friday Nov. 30th\, at sharen@gypsymusestudio.com\, to sign up. 
LOCATION:106 East Texas St.\, Grapevine\, TX\, 76051\, United States
UID:e.770.163084
SEQUENCE:3
DTSTAMP:20260423T151152Z
URL:https://business.grapevinechamber.org/events/details/creative-watercolor-sunday-12-02-2012-163084
END:VEVENT

END:VCALENDAR
