BEGIN:VCALENDAR
VERSION:2.0
PRODID:-//ChamberMaster//Event Calendar 2.0//EN
METHOD:PUBLISH
X-PUBLISHED-TTL:P3D
REFRESH-INTERVAL:P3D
CALSCALE:GREGORIAN
BEGIN:VEVENT
DTSTART:20230803T210000Z
DTEND:20230804T000000Z
X-MICROSOFT-CDO-ALLDAYEVENT:FALSE
SUMMARY:Cowboys Golf Club Open House
DESCRIPTION:Get an exclusive look at the world's only NFL-themed Golf Club!\n\n\n\nCowboys Golf Club invites you to an evening filled with delicious food and refreshing drinks\, premium vendors\, live music\, giveaways\, and guided golf course tours. Join us for an un - fore - getable night!
X-ALT-DESC;FMTTYPE=text/html:Get an exclusive look at the world&#39\;s only NFL-themed Golf Club!<br />\n<br />\nCowboys Golf Club invites you to an evening filled with delicious food and refreshing drinks\, premium vendors\, live music\, giveaways\, and guided golf course tours. Join us for an un - fore - getable night!
LOCATION:Cowboys Golf Club 1600 Fairway Drive Grapevine\, TX 76051
UID:e.770.197315
SEQUENCE:3
DTSTAMP:20260424T221404Z
URL:https://business.grapevinechamber.org/events/details/cowboys-golf-club-open-house-197315
END:VEVENT

END:VCALENDAR
