BEGIN:VCALENDAR
VERSION:2.0
PRODID:-//ChamberMaster//Event Calendar 2.0//EN
METHOD:PUBLISH
X-PUBLISHED-TTL:P3D
REFRESH-INTERVAL:P3D
CALSCALE:GREGORIAN
BEGIN:VEVENT
DTSTART:20120809T220000Z
DTEND:20120810T003000Z
X-MICROSOFT-CDO-ALLDAYEVENT:FALSE
SUMMARY:Cooking Demonstration at Morrison Appliances
DESCRIPTION:Come and enjoy a cooking demonstration by Sub-Zero/Wolf chef\, Garth Blackburn.\n\n\n\nRSVP to rsvp@morsco.com
X-ALT-DESC;FMTTYPE=text/html:Come and enjoy a cooking demonstration by Sub-Zero/Wolf chef\, Garth Blackburn.<br />\n<br />\nRSVP to&nbsp\;<a _cke_saved_href="mailto:rsvp@morsco.com" href="javascript:void(0)">rsvp@morsco.com</a>
LOCATION:1900 S. Main Street Grapevine\, TX 76051 Suite 110 inside Stacy Furniture
UID:e.770.162962
SEQUENCE:3
DTSTAMP:20260422T080008Z
URL:https://business.grapevinechamber.org/events/details/cooking-demonstration-at-morrison-appliances-08-09-2012-162962
END:VEVENT

END:VCALENDAR
