BEGIN:VCALENDAR
VERSION:2.0
PRODID:-//ChamberMaster//Event Calendar 2.0//EN
METHOD:PUBLISH
X-PUBLISHED-TTL:P3D
REFRESH-INTERVAL:P3D
CALSCALE:GREGORIAN
BEGIN:VEVENT
DTSTART:20130224T010000Z
DTEND:20130224T043000Z
X-MICROSOFT-CDO-ALLDAYEVENT:FALSE
SUMMARY:Compartmentalization - A T-n-T Event Benefitting Leukemia and Lymphoma Society
DESCRIPTION:
X-ALT-DESC;FMTTYPE=text/html:
LOCATION:441 E. Northwest Highway Grapevine\, TX 76051
UID:e.770.163322
SEQUENCE:3
DTSTAMP:20260421T193241Z
URL:https://business.grapevinechamber.org/events/details/compartmentalization-a-t-n-t-event-benefitting-leukemia-and-lymphoma-society-02-23-2013-163322
END:VEVENT

END:VCALENDAR
