BEGIN:VCALENDAR
VERSION:2.0
PRODID:-//ChamberMaster//Event Calendar 2.0//EN
METHOD:PUBLISH
X-PUBLISHED-TTL:P3D
REFRESH-INTERVAL:P3D
CALSCALE:GREGORIAN
BEGIN:VEVENT
DTSTART:20120802T140000Z
DTEND:20120802T190000Z
X-MICROSOFT-CDO-ALLDAYEVENT:FALSE
SUMMARY:Community Health Expo
DESCRIPTION:Community Health Expo For Grapevine\, Southlake and Surrounding Communities\n\n	A panel of local physicians and Clinics will be present for consulting and accepting new patients.\n\n	\n		NO INSURANCE REQUIRED\n	\n		LOW COST Lab Testing and Health Screenings available\n	\n		Immunizations available on site (FLU\, Tetanus w/ Pertussis\, PneumoVax\, Vitamin B therapy)\n	\n		Massage Therapy\, Stroke Screening\, Osteoporosis Screening\, Skin Cancer Screening\, Hearing and Vision Testing\n\n\n	FREE BLOOD PRESSURE AND BIOMETRIC SCREENINGS FOR EVERYONE\n\n	 \n\n	Accept Cash\, Check or Credit\n\n	\n\n	Check out our Facebook Page for more information
X-ALT-DESC;FMTTYPE=text/html:<div style="text-align: center">\n	<span style="background-color: yellow"><span style="font-family: verdana"><strong>Community Health Expo For Grapevine\, Southlake and Surrounding Communities</strong></span></span></div>\n<div style="text-align: center">\n	A panel of local physicians and Clinics will be present for consulting and accepting new patients.</div>\n<ul>\n	<li>\n		NO INSURANCE REQUIRED</li>\n	<li>\n		LOW COST Lab Testing and Health Screenings available</li>\n	<li>\n		Immunizations available on site (FLU\, Tetanus w/ Pertussis\, PneumoVax\, Vitamin B therapy)</li>\n	<li>\n		Massage Therapy\, Stroke Screening\, Osteoporosis Screening\, Skin Cancer Screening\, Hearing and Vision Testing</li>\n</ul>\n<div style="text-align: center">\n	<em>FREE BLOOD PRESSURE AND BIOMETRIC SCREENINGS FOR EVERYONE</em><br />\n	&nbsp\;</div>\n<div style="text-align: center">\n	<span style="color: #000080">Accept Cash\, Check or Credit</span><br />\n	<br />\n	Check out our <a href="http://www.facebook.com/pages/Cover-Tek-Inc/213986528715609" target="_blank">Facebook Page</a> for more information<br />\n	<br />\n	&nbsp\;&nbsp\;&nbsp\;<br />\n	&nbsp\;</div>\n
LOCATION:Grapevine Convention Center Concord I 1209 S. Main St. Grapevine\, TX 76051
UID:e.770.162932
SEQUENCE:3
DTSTAMP:20260422T080009Z
URL:https://business.grapevinechamber.org/events/details/community-health-expo-08-02-2012-162932
END:VEVENT

END:VCALENDAR
