BEGIN:VCALENDAR
VERSION:2.0
PRODID:-//ChamberMaster//Event Calendar 2.0//EN
METHOD:PUBLISH
X-PUBLISHED-TTL:P3D
REFRESH-INTERVAL:P3D
CALSCALE:GREGORIAN
BEGIN:VEVENT
DTSTART:20230914T160000Z
DTEND:20230915T030000Z
X-MICROSOFT-CDO-ALLDAYEVENT:FALSE
SUMMARY:Come See US at Grapefest* Proud Sponsors of the GrapeStomp*
DESCRIPTION:The Thryv Mobile is Coming!!!\n\n                           Come and See Us on Main Street\n\n                                 FUN - GAMES - PRIZES\n\n                          Opening Day Only + Free Admission\n\n                       Thursday\, September\,14 - 11 am - 10 pm\n\n                    37th Annual Grapefest* Proud Sponsors of the GrapeStomp*
X-ALT-DESC;FMTTYPE=text/html:<span style="color:#333333"><span style="font-family:arial\,sans-serif"><span style="font-size:14.0pt">&nbsp\; &nbsp\; &nbsp\; &nbsp\; &nbsp\; &nbsp\; &nbsp\; &nbsp\; &nbsp\; &nbsp\; &nbsp\; &nbsp\; &nbsp\; &nbsp\; &nbsp\; The </span></span></span><strong><span style="color:#ED7D31"><span style="font-family:arial\,sans-serif"><span style="font-size:14.0pt">Thryv</span></span></span></strong><span style="color:#ED7D31"><span style="font-family:arial\,sans-serif"><span style="font-size:14.0pt"> Mobile </span></span></span><span style="color:#333333"><span style="font-family:arial\,sans-serif"><span style="font-size:14.0pt">is Coming!!!</span></span></span><br />\n<span style="color:#333333"><span style="font-family:arial\,sans-serif"><span style="font-size:14.0pt">&nbsp\; &nbsp\; &nbsp\; &nbsp\; &nbsp\; &nbsp\; &nbsp\; &nbsp\; &nbsp\; &nbsp\; &nbsp\; &nbsp\; &nbsp\; &nbsp\;Come and See Us on Main Street<br />\n&nbsp\; &nbsp\; &nbsp\; &nbsp\; &nbsp\; &nbsp\; &nbsp\; &nbsp\; &nbsp\; &nbsp\; &nbsp\; &nbsp\; &nbsp\; &nbsp\; &nbsp\; &nbsp\; &nbsp\;<strong>FUN - GAMES - PRIZES</strong><br />\n&nbsp\; &nbsp\; &nbsp\; &nbsp\; &nbsp\; &nbsp\; &nbsp\; &nbsp\; &nbsp\; &nbsp\; &nbsp\; &nbsp\; &nbsp\; Opening Day Only + Free Admission</span></span></span><br />\n<span style="color:#333333"><span style="font-family:arial\,sans-serif"><span style="font-size:14.0pt">&nbsp\; &nbsp\; &nbsp\; &nbsp\; &nbsp\; &nbsp\; &nbsp\; &nbsp\; &nbsp\; &nbsp\; &nbsp\; &nbsp\;Thursday\, September\,14 - 11 am - 10 pm</span></span></span><br />\n&nbsp\; &nbsp\; &nbsp\; &nbsp\; &nbsp\; &nbsp\; &nbsp\; &nbsp\; &nbsp\; &nbsp\;&nbsp\;<strong><span style="font-size:16px">37th Annual Grapefest* Proud Sponsors of the GrapeStomp*</span></strong><br />\n<br />\n&nbsp\;
LOCATION:
UID:e.770.197527
SEQUENCE:3
DTSTAMP:20260424T221501Z
URL:https://business.grapevinechamber.org/events/details/come-see-us-at-grapefest-proud-sponsors-of-the-grapestomp-197527
END:VEVENT

END:VCALENDAR
