BEGIN:VCALENDAR
VERSION:2.0
PRODID:-//ChamberMaster//Event Calendar 2.0//EN
METHOD:PUBLISH
X-PUBLISHED-TTL:P3D
REFRESH-INTERVAL:P3D
CALSCALE:GREGORIAN
BEGIN:VEVENT
DTSTART:20250417T180000Z
DTEND:20250417T200000Z
X-MICROSOFT-CDO-ALLDAYEVENT:FALSE
SUMMARY:Come & Go Reception for Robyn Aguinaga
DESCRIPTION:Come by to wish Robyn Aguinaga well in her next adventure as President/CEO of the Coppell Chamber.  It will be a Come & Go in the Chamber office.
X-ALT-DESC;FMTTYPE=text/html:Come by to wish Robyn Aguinaga well in her next adventure as President/CEO of the Coppell Chamber.&nbsp\; It will be a Come &amp\; Go in the Chamber office.
LOCATION:Grapevine Chamber of Commerce 200 Vine Street\, Grapevine TX 76051
UID:e.770.201203
SEQUENCE:3
DTSTAMP:20260426T013849Z
URL:https://business.grapevinechamber.org/events/details/come-go-reception-for-robyn-aguinaga-201203
END:VEVENT

END:VCALENDAR
