BEGIN:VCALENDAR
VERSION:2.0
PRODID:-//ChamberMaster//Event Calendar 2.0//EN
METHOD:PUBLISH
X-PUBLISHED-TTL:P3D
REFRESH-INTERVAL:P3D
CALSCALE:GREGORIAN
BEGIN:VEVENT
DTSTART;VALUE=DATE:20130412
DTEND;VALUE=DATE:20130413
TRANSP:TRANSPARENT
X-MICROSOFT-CDO-ALLDAYEVENT:TRUE
SUMMARY:Colleyville Woman's Club Fashion Show
DESCRIPTION:The Colleyville Woman's Club invites you to the 2013 Fashion Show Luncheon Benefit - "Lunch with the Girlz"!\n\nFriday\, April 12\, 2013\, at the Hurst Conference Center. Silent auction begins at 9:30 am\, ballroom doors open at 11:30am. Featuring Live\, Big Board and silent auctions. Designer trunk show following the luncheon program. Event sponsorships and donation opportunities are available at C-W-C.org. Proceeds benefit CWC Charities and the luncheon program is a Jan Strimple Production. Fashions by Tootsies\, Betty Reiter and Kid Biz.
X-ALT-DESC;FMTTYPE=text/html:The Colleyville Woman&#39\;s Club invites you to the 2013 Fashion Show Luncheon Benefit - &quot\;Lunch with the Girlz&quot\;!<br />\nFriday\, April 12\, 2013\, at the Hurst Conference Center. Silent auction begins at 9:30 am\, ballroom doors open at 11:30am. Featuring Live\, Big Board and silent auctions. Designer trunk show following the luncheon program. Event sponsorships and donation opportunities are available at C-W-C.org. Proceeds benefit CWC Charities and the luncheon program is a Jan Strimple Production. Fashions by Tootsies\, Betty Reiter and Kid Biz.
LOCATION:Hurst Conference Center
UID:e.770.163437
SEQUENCE:3
DTSTAMP:20260421T162101Z
URL:https://business.grapevinechamber.org/events/details/colleyville-woman-s-club-fashion-show-04-12-2013-163437
END:VEVENT

END:VCALENDAR
