BEGIN:VCALENDAR
VERSION:2.0
PRODID:-//ChamberMaster//Event Calendar 2.0//EN
METHOD:PUBLISH
X-PUBLISHED-TTL:P3D
REFRESH-INTERVAL:P3D
CALSCALE:GREGORIAN
BEGIN:VEVENT
DTSTART:20250424T230000Z
DTEND:20250425T020000Z
X-MICROSOFT-CDO-ALLDAYEVENT:FALSE
SUMMARY:Clinks for Careity
DESCRIPTION:Live Music\, commemorative glass\, great food\, raffles and live auction.\n\n\n\nRegister HERE
X-ALT-DESC;FMTTYPE=text/html:Live Music\, commemorative glass\, great food\, raffles and live auction.<br />\n<br />\nRegister <a href="https://clinksforcareity.maxgiving.bid/about-us">HERE</a>
LOCATION:Bohemian Bull 1112 West Northwest Hwy Grapevine 76051
UID:e.770.200767
SEQUENCE:3
DTSTAMP:20260426T033049Z
URL:https://business.grapevinechamber.org/events/details/clinks-for-careity-200767
END:VEVENT

END:VCALENDAR
