BEGIN:VCALENDAR
VERSION:2.0
PRODID:-//ChamberMaster//Event Calendar 2.0//EN
METHOD:PUBLISH
X-PUBLISHED-TTL:P3D
REFRESH-INTERVAL:P3D
CALSCALE:GREGORIAN
BEGIN:VEVENT
DTSTART:20120829T170000Z
DTEND:20120829T180000Z
X-MICROSOFT-CDO-ALLDAYEVENT:FALSE
SUMMARY:"Chronic Fatigue" Lunch and Learn
DESCRIPTION:Did you know you can increase your energy by feeding your mitochondria (powerhouses of your cells).  Join us for a FREE lunch prepared just for you out of our cookbook "Food For Thought" and find out how to defeat this complex and debilitating disease.
X-ALT-DESC;FMTTYPE=text/html:Did you know you can increase your energy by feeding your mitochondria (powerhouses of your cells).&nbsp\; Join us for a FREE lunch prepared just for you out of our cookbook &quot\;Food For Thought&quot\; and find out how to defeat this complex and debilitating disease.
LOCATION:Kotsanis Institute 2260 Pool Road Grapevine\, Texas 76051
UID:e.770.162983
SEQUENCE:3
DTSTAMP:20260422T075856Z
URL:https://business.grapevinechamber.org/events/details/chronic-fatigue-lunch-and-learn-08-29-2012-162983
END:VEVENT

END:VCALENDAR
