BEGIN:VCALENDAR
VERSION:2.0
PRODID:-//ChamberMaster//Event Calendar 2.0//EN
METHOD:PUBLISH
X-PUBLISHED-TTL:P3D
REFRESH-INTERVAL:P3D
CALSCALE:GREGORIAN
BEGIN:VEVENT
DTSTART;VALUE=DATE:20131202
DTEND;VALUE=DATE:20131224
TRANSP:TRANSPARENT
X-MICROSOFT-CDO-ALLDAYEVENT:TRUE
SUMMARY:Christmas Movies at the Palace Theatre
DESCRIPTION:Dec 2 - 7 p.m. - White Christmas\n	\n	\n		\n			Dec 3 - 7 p.m. - It's A Wonderful Life\n	\n	\n		\n			Dec 4 - 7 p.m. - A Christmas Story\n	\n	\n		\n			Dec 8 - 4 p.m. - White Christmas\n	\n	\n		\n			Dec 9 - 7 p.m. - A Christmas Story\n	\n	\n		\n			Dec 11 - 7 p.m. - White Christmas\n	\n	\n		\n			Dec 17 - 7 p.m. - White Christmas\n	\n	\n		\n			Dec 20   1 p.m. - Charlie Brown & The Grinch Double Feature\n	\n	\n		\n			Dec 21   1 p.m. - Charlie Brown & The Grinch Double Feature\n	\n	\n		\n			Dec 22   1 p.m. - It's a Wonderful Life\n	\n	\n		\n			Dec 23   1 p.m. - Charlie Brown & The Grinch Double Feature\n	\n	\n		\n			Dec 23   7 p.m. - It's a Wonderful Life
X-ALT-DESC;FMTTYPE=text/html:<ul>\n	<li>\n		<p>\n			<span style="font-size:14px\;"><span style="font-family: arial\;"><strong>Dec 2 - 7 p.m.</strong> - White Christmas</span></span></p>\n	</li>\n	<li>\n		<p>\n			<span style="font-size:14px\;"><span style="font-family: arial\;"><strong>Dec 3 - 7 p.m. </strong>- It&#39\;s A Wonderful Life</span></span></p>\n	</li>\n	<li>\n		<p>\n			<span style="font-size:14px\;"><span style="font-family: arial\;"><strong>Dec 4 - 7 p.m.</strong> - A Christmas Story</span></span></p>\n	</li>\n	<li>\n		<p>\n			<span style="font-size:14px\;"><span style="font-family: arial\;"><strong>Dec 8 - 4 p.m.</strong> - White Christmas</span></span></p>\n	</li>\n	<li>\n		<p>\n			<span style="font-size:14px\;"><span style="font-family: arial\;"><strong>Dec 9 - 7 p.m.</strong> - A Christmas Story</span></span></p>\n	</li>\n	<li>\n		<p>\n			<span style="font-size:14px\;"><span style="font-family: arial\;"><strong>Dec 11 - 7 p.m.</strong> - White Christmas</span></span></p>\n	</li>\n	<li>\n		<p>\n			<span style="font-size:14px\;"><span style="font-family: arial\;"><strong>Dec 17 - 7 p.m.</strong> - White Christmas</span></span></p>\n	</li>\n	<li>\n		<p>\n			<span style="font-size:14px\;"><span style="font-family: arial\;"><strong>Dec 20 &ndash\; 1 p.m.</strong> - Charlie Brown &amp\; The Grinch Double Feature</span></span></p>\n	</li>\n	<li>\n		<p>\n			<span style="font-size:14px\;"><span style="font-family: arial\;"><strong>Dec 21 &ndash\; 1 p.m. </strong>- Charlie Brown &amp\; The Grinch Double Feature</span></span></p>\n	</li>\n	<li>\n		<p>\n			<span style="font-size:14px\;"><span style="font-family: arial\;"><strong>Dec 22 &ndash\; 1 p.m.</strong> - It&rsquo\;s a Wonderful Life</span></span></p>\n	</li>\n	<li>\n		<p>\n			<span style="font-size:14px\;"><span style="font-family: arial\;"><strong>Dec 23 &ndash\; 1 p.m. </strong>- Charlie Brown &amp\; The Grinch Double Feature</span></span></p>\n	</li>\n	<li>\n		<p>\n			<span style="font-size:14px\;"><span style="font-family: arial\;">Dec 23 &ndash\; 7 p.m. - It&rsquo\;s a Wonderful Life</span></span></p>\n	</li>\n</ul>\n
LOCATION:Palace Theatre 300 S. Main St. Grapevine\, TX 76051
UID:e.770.165440
SEQUENCE:3
DTSTAMP:20260421T000615Z
URL:https://business.grapevinechamber.org/events/details/christmas-movies-at-the-palace-theatre-12-02-2013-165440
END:VEVENT

END:VCALENDAR
