BEGIN:VCALENDAR
VERSION:2.0
PRODID:-//ChamberMaster//Event Calendar 2.0//EN
METHOD:PUBLISH
X-PUBLISHED-TTL:P3D
REFRESH-INTERVAL:P3D
CALSCALE:GREGORIAN
BEGIN:VEVENT
DTSTART:20240224T200000Z
DTEND:20240225T010000Z
X-MICROSOFT-CDO-ALLDAYEVENT:FALSE
SUMMARY:Charity Art Market with The Usual Artspects
DESCRIPTION:Charity Art Market with The Usual Artspects! \n\n\n\nWe invite you to be a part of something special at our Charity Art Market! Support our local nonprofit\, The Usual Artspects\, dedicated to providing Art Therapy for abused women and survivors of sex trafficking. \n\n\n\nWhat to Expect:\n\n        Local Artisans: Discover unique creations from talented local artists\, artisans\, and small business owners. \n\n        Family and Pet Friendly: Bring the whole family\, including your furry friends!\n\n        Craft Beer Delights: Enjoy delicious craft beer while shopping for a cause.\n\n\n\nYour participation not only supports survivors on their healing journey but also uplifts the local art community. Let's come together for a day of art\, community\, and making a positive impact!
X-ALT-DESC;FMTTYPE=text/html:<strong><font color="#374151" face="apple color emoji">C</font>harity Art Market with The Usual Artspects!&nbsp\;</strong><br />\n<br />\n<span style="color:#374151">We invite you to be a part of something special at our Charity Art Market! Support our local nonprofit\, The Usual Artspects\, dedicated to providing Art Therapy for abused women and survivors of sex trafficking. </span><br />\n<br />\n<strong><span style="color:#374151">What to Expect:</span></strong><br />\n<span style="color:#374151"><span style="font-family:symbol"><span style="font-size:10.0pt">&middot\;&nbsp\;&nbsp\;&nbsp\;&nbsp\;&nbsp\;&nbsp\; </span></span></span><strong><span style="color:#374151">Local Artisans:</span></strong><span style="color:#374151"> Discover unique creations from talented local artists\, artisans\, and small business owners. </span><br />\n<span style="color:#374151"><span style="font-family:symbol"><span style="font-size:10.0pt">&middot\;&nbsp\;&nbsp\;&nbsp\;&nbsp\;&nbsp\;&nbsp\; </span></span></span><strong><span style="color:#374151">Family and Pet Friendly:</span></strong><span style="color:#374151"> Bring the whole family\, including your furry friends!</span><br />\n<span style="color:#374151"><span style="font-family:symbol"><span style="font-size:10.0pt">&middot\;&nbsp\;&nbsp\;&nbsp\;&nbsp\;&nbsp\;&nbsp\; </span></span></span><strong><span style="color:#374151">Craft Beer Delights:</span></strong><span style="color:#374151"> Enjoy delicious craft beer while shopping for a cause.</span><br />\n<br />\n<span style="color:#374151">Your participation not only supports survivors on their healing journey but also uplifts the local art community. Let&#39\;s come together for a day of art\, community\, and making a positive impact!</span>
LOCATION:False Idol Brewing 7924 Maplewood Ave North Richland Hills
UID:e.770.198197
SEQUENCE:3
DTSTAMP:20260424T130455Z
URL:https://business.grapevinechamber.org/events/details/charity-art-market-with-the-usual-artspects-198197
END:VEVENT

END:VCALENDAR
