BEGIN:VCALENDAR
VERSION:2.0
PRODID:-//ChamberMaster//Event Calendar 2.0//EN
METHOD:PUBLISH
X-PUBLISHED-TTL:P3D
REFRESH-INTERVAL:P3D
CALSCALE:GREGORIAN
BEGIN:VEVENT
DTSTART:20260118T170000Z
DTEND:20260118T190000Z
X-MICROSOFT-CDO-ALLDAYEVENT:FALSE
SUMMARY:ChandlerSpeaks Give-Back Brunch
DESCRIPTION:ChandlerSpeaks Give-Back Brunch Supporting Children's Speech Therapy Hosted at Chicken N Pickle Join us for a family-friendly give-back event benefiting ChandlerSpeaks\, a nonprofit dedicated to helping children access life-changing speech therapy. On Sunday\, January 18\, 2026\, 10% of all on-campus food and drink sales at Chicken N Pickle in Grapevine will be donated back to support children who need speech services. Stop by for food\, pickleball\, games\, or just to spend time together   every purchase makes an impact. This is a casual\, come-and-go event with no formal program\, though a brief message about the mission will be shared during the event. Bonus: Chicken N Pickle hosts FREE Bingo from 10:00 AM   12:00 PM\, so arrive early if you'd like to join! All ages welcome. Bring friends\, family\, and coworkers   and help us raise funds and awareness.
X-ALT-DESC;FMTTYPE=text/html:ChandlerSpeaks Give-Back Brunch Supporting Children&rsquo\;s Speech Therapy Hosted at Chicken N Pickle Join us for a family-friendly give-back event benefiting ChandlerSpeaks\, a nonprofit dedicated to helping children access life-changing speech therapy. On Sunday\, January 18\, 2026\, 10% of all on-campus food and drink sales at Chicken N Pickle in Grapevine will be donated back to support children who need speech services. Stop by for food\, pickleball\, games\, or just to spend time together &mdash\; every purchase makes an impact. This is a casual\, come-and-go event with no formal program\, though a brief message about the mission will be shared during the event. Bonus: Chicken N Pickle hosts FREE Bingo from 10:00 AM &ndash\; 12:00 PM\, so arrive early if you&rsquo\;d like to join! All ages welcome. Bring friends\, family\, and coworkers &mdash\; and help us raise funds and awareness.
LOCATION:Chicken N Pickle 4600 Merlot Ave\, Grapevine\, TX 76051
UID:e.770.203649
SEQUENCE:3
DTSTAMP:20260422T174938Z
URL:https://business.grapevinechamber.org/events/details/chandlerspeaks-give-back-brunch-203649
END:VEVENT

END:VCALENDAR
