BEGIN:VCALENDAR
VERSION:2.0
PRODID:-//ChamberMaster//Event Calendar 2.0//EN
METHOD:PUBLISH
X-PUBLISHED-TTL:P3D
REFRESH-INTERVAL:P3D
CALSCALE:GREGORIAN
BEGIN:VEVENT
DTSTART:20250116T173000Z
DTEND:20250116T190000Z
X-MICROSOFT-CDO-ALLDAYEVENT:FALSE
SUMMARY:Chamber Monthly Luncheon
DESCRIPTION:Program: \n\nSponsor: Phelps Dunbar\n\nCaterer: Bartley's BBQ\nBrian Dameris is an Emmy nominated studio and game analyst for Mavs TV broadcasts on Bally Sports. He is also the color commentator for Mavs radio broadcasts.  For the past ten years he has been co-host of KTCK The Ticket's Mavs Postgame Show and can also be heard weekly on his Mavs podcast "Take Dat Wit You" with Mark Followill.  He is also a regular contributor at D Magazine.\n\n \n\nBrian worked with Mark Cuban on his portfolio of investments\, including consulting with the companies Cuban invests in on his ABC show "Shark Tank."  \n\n \n\nAs Director of Basketball Development with the Dallas Mavericks\, Brian led the first analytics department in the NBA.  He also ran the annual Global Games basketball tournament and was involved in the team's international development.\n\n \n\nBrian started his career as the fifth employee at Broadcast.com in 1995.  He spearheaded the company's Initial Public Offering in 1998\, resulting in a then record-setting opening on Wall Street.   He ran the Mergers & Acquisitions Group\, buying 3 companies for a combined $250 million in 9 months\, then selling to Yahoo! for $5.8 billion in April of 1999.\n\n \n\nHe has served on the Board of the Dallas International Film Festival\, is a member of The Dallas Assembly and a graduate of the Leadership Dallas Class of 2001.  He moonlighted as a stand-up comedian and has performed in Los Angeles' famous Comedy Store.  He is a graduate of Baylor University and received his MBA from SMU.
X-ALT-DESC;FMTTYPE=text/html:<br />\nProgram:&nbsp\;<br />\nSponsor: Phelps Dunbar<br />\nCaterer: Bartley&#39\;s BBQ\n<hr /><span style="font-size:16px\;"><span style="font-family:times new roman\;">Brian Dameris is an Emmy nominated studio and game analyst for Mavs TV broadcasts on Bally Sports. He is also the color commentator for Mavs radio broadcasts.&nbsp\; For the past ten years he has been co-host of KTCK The Ticket&rsquo\;s Mavs Postgame Show and can also be heard weekly on his Mavs podcast &ldquo\;Take Dat Wit You&rdquo\; with Mark Followill.&nbsp\; He is also a regular contributor at D Magazine.<br />\n&nbsp\;<br />\nBrian worked with Mark Cuban on his portfolio of investments\, including consulting with the companies Cuban invests in on his ABC show &ldquo\;Shark Tank.&rdquo\;&nbsp\;&nbsp\;<br />\n&nbsp\;<br />\nAs Director of Basketball Development with the Dallas Mavericks\, Brian led the first analytics department in the NBA.&nbsp\; He also ran the annual Global Games basketball tournament and was involved in the team&rsquo\;s international development.<br />\n&nbsp\;<br />\nBrian started his career as the fifth employee at Broadcast.com in 1995.&nbsp\; He spearheaded the company&rsquo\;s Initial Public Offering in 1998\, resulting in a then record-setting opening on Wall Street.&nbsp\;&nbsp\; He ran the Mergers &amp\; Acquisitions Group\, buying 3 companies for a combined $250 million in 9 months\, then selling to Yahoo! for $5.8 billion in April of 1999.<br />\n&nbsp\;<br />\nHe has served on the Board of the Dallas International Film Festival\, is a member of The Dallas Assembly and a graduate of the Leadership Dallas Class of 2001.&nbsp\; He moonlighted as a stand-up comedian and has performed in Los Angeles&rsquo\; famous Comedy Store.&nbsp\; He is a graduate of Baylor University and received his MBA from SMU.</span></span>
LOCATION:Grapevine Convention Center 1209 S Main St Grapevine\, TX 76051
UID:e.770.197957
SEQUENCE:3
DTSTAMP:20260425T152124Z
URL:https://business.grapevinechamber.org/events/details/chamber-monthly-luncheon-01-16-2025-197957
END:VEVENT

END:VCALENDAR
