BEGIN:VCALENDAR
VERSION:2.0
PRODID:-//ChamberMaster//Event Calendar 2.0//EN
METHOD:PUBLISH
X-PUBLISHED-TTL:P3D
REFRESH-INTERVAL:P3D
CALSCALE:GREGORIAN
BEGIN:VEVENT
DTSTART:20121213T233000Z
DTEND:20121214T013000Z
X-MICROSOFT-CDO-ALLDAYEVENT:FALSE
SUMMARY:Chamber Christmas Open House at Bank of the West
DESCRIPTION:RSVP by emailing info@grapevinechamber.org\, calling (817) 481-1522 or resigter online by clicking above.
X-ALT-DESC;FMTTYPE=text/html:RSVP by emailing <a href="mailto:info@grapevinechamber.org">info@grapevinechamber.org</a>\, calling (817) 481-1522 or resigter online by clicking above.
LOCATION:Bank of the West 108 W. Northwest Hwy. Grapevine\, TX 76051
UID:e.770.162650
SEQUENCE:3
DTSTAMP:20260423T163908Z
URL:https://business.grapevinechamber.org/events/details/chamber-christmas-open-house-at-bank-of-the-west-12-13-2012-162650
END:VEVENT

END:VCALENDAR
