BEGIN:VCALENDAR
VERSION:2.0
PRODID:-//ChamberMaster//Event Calendar 2.0//EN
METHOD:PUBLISH
X-PUBLISHED-TTL:P3D
REFRESH-INTERVAL:P3D
CALSCALE:GREGORIAN
BEGIN:VEVENT
DTSTART:20260527T130000Z
DTEND:20260527T200000Z
X-MICROSOFT-CDO-ALLDAYEVENT:FALSE
SUMMARY:Carter Bloodcare Drive
DESCRIPTION:The Grapevine Rotary Club is proud to organize a community blood drive\, bringing neighbors together to support a life-saving cause. Every donation has the power to make a real difference for patients in need. We're grateful for everyone who steps up to give and serve.\n\nuse the link to sign up.
X-ALT-DESC;FMTTYPE=text/html:The Grapevine Rotary Club is proud to organize a community blood drive\, bringing neighbors together to support a life-saving cause. Every donation has the power to make a real difference for patients in need. We&rsquo\;re grateful for everyone who steps up to give and serve.<br />\nuse the link to sign up.
LOCATION:1175 Municipal Way\, Grapevine\, TX 76051 Stage Classroom at the Rec\, use 55 and better entrance.
UID:e.770.204609
SEQUENCE:3
DTSTAMP:20260422T055816Z
URL:https://business.grapevinechamber.org/events/details/carter-bloodcare-drive-204609
END:VEVENT

END:VCALENDAR
