BEGIN:VCALENDAR
VERSION:2.0
PRODID:-//ChamberMaster//Event Calendar 2.0//EN
METHOD:PUBLISH
X-PUBLISHED-TTL:P3D
REFRESH-INTERVAL:P3D
CALSCALE:GREGORIAN
BEGIN:VEVENT
DTSTART:20240216T170000Z
DTEND:20240216T210000Z
X-MICROSOFT-CDO-ALLDAYEVENT:FALSE
SUMMARY:Carter Blood Drive at Texas Gun Experience
DESCRIPTION:Carter Blood Drive at Texas Gun Experience\n\nFriday February 16\, 2024\n\n11:00 am - 3:00 pm
X-ALT-DESC;FMTTYPE=text/html:Carter Blood Drive at Texas Gun Experience<br />\nFriday February 16\, 2024<br />\n11:00 am - 3:00 pm&nbsp\;
LOCATION:Texas Gun Experience
UID:e.770.198258
SEQUENCE:3
DTSTAMP:20260424T130324Z
URL:https://business.grapevinechamber.org/events/details/carter-blood-drive-at-texas-gun-experience-198258
END:VEVENT

END:VCALENDAR
