BEGIN:VCALENDAR
VERSION:2.0
PRODID:-//ChamberMaster//Event Calendar 2.0//EN
METHOD:PUBLISH
X-PUBLISHED-TTL:P3D
REFRESH-INTERVAL:P3D
CALSCALE:GREGORIAN
BEGIN:VEVENT
DTSTART:20230603T140000Z
DTEND:20230603T170000Z
X-MICROSOFT-CDO-ALLDAYEVENT:FALSE
SUMMARY:Cancer Survivorship Day Rise and Shine Event
DESCRIPTION:Please join us for a FREE Rise and Shine event celebrating cancer survivors and their caregivers. \n\n \n\nThis event will include inspirational stories\, breakfast\, interactive activities\, and opportunities to connect with fellow survivors.
X-ALT-DESC;FMTTYPE=text/html:<span style="color:#4C4D4F"><span style="font-family:sharp sans medium">Please join us for a FREE Rise and Shine event celebrating cancer survivors and their caregivers. </span></span><br />\n&nbsp\;<br />\n<span style="color:#4C4D4F"><span style="font-family:sharp sans medium">This event will include inspirational stories\, breakfast\, interactive activities\, and opportunities to connect with fellow survivors.</span></span>
LOCATION:Baylor Scott & White Medical Center Grapevine 1650 W College Street Grapevine\, TX 76051 Main Entrance Lobby
UID:e.770.197209
SEQUENCE:3
DTSTAMP:20260425T034113Z
URL:https://business.grapevinechamber.org/events/details/cancer-survivorship-day-rise-and-shine-event-197209
END:VEVENT

END:VCALENDAR
