BEGIN:VCALENDAR
VERSION:2.0
PRODID:-//ChamberMaster//Event Calendar 2.0//EN
METHOD:PUBLISH
X-PUBLISHED-TTL:P3D
REFRESH-INTERVAL:P3D
CALSCALE:GREGORIAN
BEGIN:VEVENT
DTSTART:20121020T000000Z
DTEND:20121020T030000Z
X-MICROSOFT-CDO-ALLDAYEVENT:FALSE
SUMMARY:Cafe - Benefitting the Susan G. Komen 3 Day Walk for the Cure
DESCRIPTION:We will be hosting a fundraiser for the Susan G. Komen 3 day walk.  It is estimated that 226\,870 women will be diagnosed with cancer\; 39\,510 women will die. 1 in 8 women will be diagnosed with cancer of the breast during their lifetime. Men are not immune. 2\,190 men will be diagnosed and 410 will die.\n\nJoin us.  Support the continued research - Let's eradicate cancer in this lifetime.
X-ALT-DESC;FMTTYPE=text/html:We will be hosting a fundraiser for the Susan G. Komen 3 day walk.&nbsp\; It is estimated that 226\,870 women will be diagnosed with cancer\;&nbsp\;39\,510 women will die.&nbsp\;1 in 8 women will be diagnosed with cancer of the breast during their lifetime.&nbsp\;Men are not immune. 2\,190 men will be diagnosed and 410&nbsp\;will die.<br />\nJoin us.&nbsp\; Support the continued research - Let&#39\;s eradicate cancer in this lifetime.<br />\n
LOCATION:441 E. Northwest Hwy Grapevine\, TX 76051
UID:e.770.163051
SEQUENCE:3
DTSTAMP:20260422T110858Z
URL:https://business.grapevinechamber.org/events/details/cafe-benefitting-the-susan-g-komen-3-day-walk-for-the-cure-10-19-2012-163051
END:VEVENT

END:VCALENDAR
