BEGIN:VCALENDAR
VERSION:2.0
PRODID:-//ChamberMaster//Event Calendar 2.0//EN
METHOD:PUBLISH
X-PUBLISHED-TTL:P3D
REFRESH-INTERVAL:P3D
CALSCALE:GREGORIAN
BEGIN:VEVENT
DTSTART:20230824T133000Z
DTEND:20230824T160000Z
X-MICROSOFT-CDO-ALLDAYEVENT:FALSE
SUMMARY:Business Xceleration Breakfast
DESCRIPTION:Join us for networking\, business planning & breakfast. This is a power-packed\, in-person event designed to supercharge your business growth!\n\nDuring the event you'll have the opportunity to network with other entrepreneurs\, start your Q4 business plan and vision and learn about our Business Xceleration Group that takes your business to the next level.\n\n\n\nClick the link to register: https://www.eventbrite.com/e/business-xceleration-breakfast-tickets-680293525247?aff=oddtdtcreatorsiness Xceleration Group\, designed to take your business to the next level.
X-ALT-DESC;FMTTYPE=text/html:<p><strong>Join us for networking\, business planning &amp\; breakfast. This is a power-packed\, in-person event designed to supercharge your business growth!</strong></p>\n\n<p><strong>During the event you&#39\;ll have the opportunity to network with other entrepreneurs\, start your Q4 business plan and vision and learn about our Business Xceleration Group that takes your business to the next level.</strong><br />\n<br />\n<strong>Click the link to register:&nbsp\;</strong>https://www.eventbrite.com/e/business-xceleration-breakfast-tickets-680293525247?aff=oddtdtcreator<span style="color:rgb(255\, 255\, 255)">siness Xceleration Group\, designed to take your business to the next level.</span></p>\n
LOCATION:XM Performance Headquarters 469 Cherry Ln\, Southlake\, TX 76248
UID:e.770.197362
SEQUENCE:3
DTSTAMP:20260424T221324Z
URL:https://business.grapevinechamber.org/events/details/business-xceleration-breakfast-197362
END:VEVENT

END:VCALENDAR
