BEGIN:VCALENDAR
VERSION:2.0
PRODID:-//ChamberMaster//Event Calendar 2.0//EN
METHOD:PUBLISH
X-PUBLISHED-TTL:P3D
REFRESH-INTERVAL:P3D
CALSCALE:GREGORIAN
BEGIN:VEVENT
DTSTART:20121106T133000Z
DTEND:20121106T133000Z
X-MICROSOFT-CDO-ALLDAYEVENT:FALSE
SUMMARY:Business Over Coffee
DESCRIPTION:Business Over Coffee provides an opportunity for Chamber member businesses to introduce their products or services to fellow members\, while building a network of businesses to refer and recommend.
X-ALT-DESC;FMTTYPE=text/html:Business Over Coffee provides an opportunity for Chamber member businesses to introduce their products or services to fellow members\, while building a network of businesses to refer and recommend.&nbsp\; 
LOCATION:La Madeleine 900 W. State Hwy. 114 Grapevine\, TX 76051
UID:e.770.162503
SEQUENCE:3
DTSTAMP:20260420T105709Z
URL:https://business.grapevinechamber.org/events/details/business-over-coffee-11-06-2012-162503
END:VEVENT

END:VCALENDAR
