BEGIN:VCALENDAR
VERSION:2.0
PRODID:-//ChamberMaster//Event Calendar 2.0//EN
METHOD:PUBLISH
X-PUBLISHED-TTL:P3D
REFRESH-INTERVAL:P3D
CALSCALE:GREGORIAN
BEGIN:VEVENT
DTSTART:20140307T133000Z
DTEND:20140307T153000Z
X-MICROSOFT-CDO-ALLDAYEVENT:FALSE
SUMMARY:Business Insight Series-The EMyth: What Business Owners Need to Know to Succeed
DESCRIPTION:ONLINE REGISTRATION CLOSED - Walk-in registration will begin at 7:30 a.m. (3/7) at Cowboys Golf Club.\n\n\n\nEACH ATTENDEE will receive of FREE\, SIGNED copy of Rich Allen's book Tour de Profit - a 52 Stage Race to Grow Your Business.\n\n\n\nFormerly the Leadership Breakfast Series\, the Chamber's breakfast series of seminars returns in 2014 with the Business Insight Series.\n\n\n\nTopic: The EMyth: What Business Owners Need to Know to Succeed\n\n\n\nSpeaker: Rich Allen\n\n\n\nSession Overview:\n\n\n\nWhen you were a kid learning to ride a bike\, you didn't need to know how it was designed\, why the wheels were a certain size or how the hand brakes worked. You just watched how the other kids did it\, hopped on your own bike and hoped for the best.\n\n\n\nAccording to Rich Allen\, president of Tour de Profit Business Coaching\, many entrepreneurs take the very same approach to running their business. They never learned that just like the winners of bicycle road races who have an intrinsic knowledge of their bicycles' mechanics\, business owners need an understanding of how the pieces of their business fit together and work in harmony.\n\n\n\nIn the session you will learn about:\n\n\n	\n	How a bicycle is a perfect metaphor for a business \n	\n	\n	How to diagnose a problem or issue in their business \n	\n	\n	What to do to cross your own pre-determined finish line \n	\n\n\nAbout the Speaker: \n\n\n\nStarting with his father's family-owner business\, Rich has first-hand experience with the unique challenges inherent in leading and growing the smallest of businesses to those in the Fortune 500. His hands-on approach\, engaging personal style and high-energy enthusiasm attract business leaders who have a passion for achieving extraordinary results.\n\n\n\nRich works one-to-one with business owners\, key leaders and corporate executives to tackle the issues and obstacles that face businesses and organizations today. He works with the senior-most leader to create an enterprise that is built on a solid foundation\, has a unique marketplace position\, harnesses the power of their business chassis\, is grounded in repeatable processes\, driven by a high-performance team\, and lead by a visionary leader.\n\n\n\nAn author and inspirational speaker\, Rich helps business leaders visualize their goals\, structure their approach\, measure their outcomes\, continuously improve their processes and achieve remarkable results. His clients credit him with "crystallizing our vision"\, "holds me accountable"\, "helps me keep my priorities straight"\, "providing practical solutions we can implement right away"\, and "has been a major factor in our growth and success".\n\n\n\nPrior to becoming a business coach in 2007\, Rich was a Captain in the U.S. Army\, VP HR with Texas Instruments\, and VP HR then Division President with Pella Corporation. Rich is a proud Rotarian and serves on several boards including Genesis Elevator Company\, Atlanta\, GA\, Frisco Chamber of Commerce\, Frisco\, TX and ManeGait Theraputic Horsemanship Charity\, McKinney\, TX.\n\n\n\nRich holds a B.S. in Accounting from Arizona State University and an MBA in International Business from the University of Texas at Dallas. Rich has been named Coach of the Year in North Texas for 2007 and 2008\, was recognized as BrandCOACH for the Americas in 2009 and was recognized as the 2009 Entrepreneur of the Year by the Frisco Chamber of Commerce.\n\n\n\nRich also published his first book\, "Tour de Profit   a 52 Stage Race to Grow Your Business" in 2011.
X-ALT-DESC;FMTTYPE=text/html:<p><br />\n<span style="font-size:14px\;"><span style="font-family: arial\;"><strong><em>ONLINE REGISTRATION CLOSED</em> - Walk-in registration will begin at 7:30 a.m. (3/7) at Cowboys Golf Club.<br />\n<br />\nEACH ATTENDEE</strong> will receive of <strong>FREE\, SIGNED</strong> copy of Rich Allen&#39\;s book <em>Tour de Profit - a 52 Stage Race to Grow Your Business</em>.<br />\n<br />\nFormerly the Leadership Breakfast Series\, the Chamber&#39\;s breakfast series of seminars returns in 2014 with the Business Insight Series.<br />\n<br />\n<strong>Topic: </strong>The EMyth: What Business Owners Need to Know to Succeed<br />\n<br />\n<strong>Speaker: </strong>Rich Allen<br />\n<br />\n<strong>Session Overview:</strong><br />\n<br />\nWhen you were a kid learning to ride a bike\, you didn&rsquo\;t need to know how it was designed\, why the wheels were a certain size or how the hand brakes worked. You just watched how the other kids did it\, hopped on your own bike and hoped for the best.<br />\n<br />\nAccording to Rich Allen\, president of Tour de Profit Business Coaching\, many entrepreneurs take the very same approach to running their business. They never learned that just like the winners of bicycle road races who have an intrinsic knowledge of their bicycles&rsquo\; mechanics\, business owners need an understanding of how the pieces of their business fit together and work in harmony.<br />\n<br />\n<u>In the session you will learn about:</u></span></span></p>\n\n<ul>\n	<li>\n	<p><em><strong><span style="font-size:14px\;"><span style="font-family: arial\;">How a bicycle is a perfect metaphor for a business </span></span></strong></em></p>\n	</li>\n	<li>\n	<p><em><strong><span style="font-size:14px\;"><span style="font-family: arial\;">How to diagnose a problem or issue in their business </span></span></strong></em></p>\n	</li>\n	<li>\n	<p><em><strong><span style="font-size:14px\;"><span style="font-family: arial\;">What to do to cross your own pre-determined finish line </span></span></strong></em></p>\n	</li>\n</ul>\n\n<p><span style="font-size:14px\;"><span style="font-family: arial\;"><strong>About the Speaker: </strong><br />\n<br />\nStarting with his father&rsquo\;s family-owner business\, Rich has first-hand experience with the unique challenges inherent in leading and growing the smallest of businesses to those in the Fortune 500. His hands-on approach\, engaging personal style and high-energy enthusiasm attract business leaders who have a passion for achieving extraordinary results.<br />\n<br />\nRich works one-to-one with business owners\, key leaders and corporate executives to tackle the issues and obstacles that face businesses and organizations today. He works with the senior-most leader to create an enterprise that is built on a solid foundation\, has a unique marketplace position\, harnesses the power of their business chassis\, is grounded in repeatable processes\, driven by a high-performance team\, and lead by a visionary leader.<br />\n<br />\nAn author and inspirational speaker\, Rich helps business leaders visualize their goals\, structure their approach\, measure their outcomes\, continuously improve their processes and achieve remarkable results. His clients credit him with &ldquo\;crystallizing our vision&rdquo\;\, &ldquo\;holds me accountable&rdquo\;\, &ldquo\;helps me keep my priorities straight&rdquo\;\, &ldquo\;providing practical solutions we can implement right away&rdquo\;\, and &ldquo\;has been a major factor in our growth and success&rdquo\;.<br />\n<br />\nPrior to becoming a business coach in 2007\, Rich was a Captain in the U.S. Army\, VP HR with Texas Instruments\, and VP HR then Division President with Pella Corporation. Rich is a proud Rotarian and serves on several boards including Genesis Elevator Company\, Atlanta\, GA\, Frisco Chamber of Commerce\, Frisco\, TX and ManeGait Theraputic Horsemanship Charity\, McKinney\, TX.<br />\n<br />\nRich holds a B.S. in Accounting from Arizona State University and an MBA in International Business from the University of Texas at Dallas. Rich has been named Coach of the Year in North Texas for 2007 and 2008\, was recognized as BrandCOACH for the Americas in 2009 and was recognized as the 2009 Entrepreneur of the Year by the Frisco Chamber of Commerce.<br />\n<br />\nRich also published his first book\, &ldquo\;Tour de Profit &ndash\; a 52 Stage Race to Grow Your Business&rdquo\; in 2011.</span></span></p>\n
LOCATION:Cowboys Golf Club 1600 Fairway Dr.
UID:e.770.166470
SEQUENCE:3
DTSTAMP:20260420T182523Z
URL:https://business.grapevinechamber.org/events/details/business-insight-series-the-emyth-what-business-owners-need-to-know-to-succeed-03-07-2014-166470
END:VEVENT

END:VCALENDAR
