BEGIN:VCALENDAR
VERSION:2.0
PRODID:-//ChamberMaster//Event Calendar 2.0//EN
METHOD:PUBLISH
X-PUBLISHED-TTL:P3D
REFRESH-INTERVAL:P3D
CALSCALE:GREGORIAN
BEGIN:VEVENT
DTSTART:20160713T163000Z
DTEND:20160713T180000Z
X-MICROSOFT-CDO-ALLDAYEVENT:FALSE
SUMMARY:Business Builders (Lunch Networking)
DESCRIPTION:Business Builders Lunch Group\n\n\n\nThe Business Builders lunch group is open to ALL CHAMBER MEMBERS and is FREE to attend. This networking group meets the 2nd and 4th Wednesday of each month. At each meeting there is a special speaker and moderated discussion on business topics\, along with time for one-on-one networking.
X-ALT-DESC;FMTTYPE=text/html:Business Builders Lunch Group<br />\n<br />\nThe Business Builders lunch group is open to ALL CHAMBER MEMBERS and is FREE to attend. This networking group meets the 2nd and 4th Wednesday of each month. At each meeting there is a special speaker and moderated discussion on business topics\, along with time for one-on-one networking.
LOCATION:The Library Bar & Grill at Residence Inn 2020 Hwy. 26 Grapevine\, TX 76051
UID:e.770.172146
SEQUENCE:3
DTSTAMP:20260420T095516Z
URL:https://business.grapevinechamber.org/events/details/business-builders-lunch-networking-07-13-2016-172146
END:VEVENT

END:VCALENDAR
