BEGIN:VCALENDAR
VERSION:2.0
PRODID:-//ChamberMaster//Event Calendar 2.0//EN
METHOD:PUBLISH
X-PUBLISHED-TTL:P3D
REFRESH-INTERVAL:P3D
CALSCALE:GREGORIAN
BEGIN:VEVENT
DTSTART:20130514T223000Z
DTEND:20130514T223000Z
X-MICROSOFT-CDO-ALLDAYEVENT:FALSE
SUMMARY:Business After Hours Mixer & Ribbon Cutting at Grimaldi's Pizzeria
DESCRIPTION:A networking event to introduce Chamber businesses to the host corporation as well as providing an opportunity for Chamber Members to build a network of customers and contacts in the Grapevine area.\n\n	\n\n	Ribbon Cutting at 5:30 p.m.\n\n	\n\n	Business After Hours Mixer 5:30-7:30 p.m.
X-ALT-DESC;FMTTYPE=text/html:<div>\n	A networking event to introduce Chamber businesses to the host corporation as well as providing an opportunity for Chamber Members to build a network of customers and contacts in the Grapevine area.<br />\n	<br />\n	<strong>Ribbon Cutting at 5:30 p.m.<br />\n	<br />\n	Business After Hours Mixer 5:30-7:30 p.m.</strong><br />\n	&nbsp\;</div>\n
LOCATION:Grimaldi's Pizzeria 1401 William D. Tate Ave.\, #100 Grapevine\, TX 76051
UID:e.770.163246
SEQUENCE:3
DTSTAMP:20260421T130150Z
URL:https://business.grapevinechamber.org/events/details/business-after-hours-mixer-ribbon-cutting-at-grimaldi-s-pizzeria-05-14-2013-163246
END:VEVENT

END:VCALENDAR
