BEGIN:VCALENDAR
VERSION:2.0
PRODID:-//ChamberMaster//Event Calendar 2.0//EN
METHOD:PUBLISH
X-PUBLISHED-TTL:P3D
REFRESH-INTERVAL:P3D
CALSCALE:GREGORIAN
BEGIN:VEVENT
DTSTART:20120927T223000Z
DTEND:20120928T003000Z
X-MICROSOFT-CDO-ALLDAYEVENT:FALSE
SUMMARY:Business After Hours Mixer at Willhoite's Restaurant
DESCRIPTION:A networking event to introduce Chamber businesses to the host corporation as well as providing an opportunity for Chamber Members to build a network of customers and contacts in the Grapevine area.
X-ALT-DESC;FMTTYPE=text/html:<div>\n	A networking event to introduce Chamber businesses to the host corporation as well as providing an opportunity for Chamber Members to build a network of customers and contacts in the Grapevine area.<br />\n	&nbsp\;</div>\n
LOCATION:Willhoite's Restaurant 432 S. Main St. Grapevine\, TX 76051
UID:e.770.162789
SEQUENCE:3
DTSTAMP:20260422T094321Z
URL:https://business.grapevinechamber.org/events/details/business-after-hours-mixer-at-willhoite-s-restaurant-09-27-2012-162789
END:VEVENT

END:VCALENDAR
