BEGIN:VCALENDAR
VERSION:2.0
PRODID:-//ChamberMaster//Event Calendar 2.0//EN
METHOD:PUBLISH
X-PUBLISHED-TTL:P3D
REFRESH-INTERVAL:P3D
CALSCALE:GREGORIAN
BEGIN:VEVENT
DTSTART:20130328T223000Z
DTEND:20130329T003000Z
X-MICROSOFT-CDO-ALLDAYEVENT:FALSE
SUMMARY:Business After Hours Mixer at Tribeca Americana Bistro & Lounge
DESCRIPTION:A networking event to introduce Chamber businesses to the host corporation as well as providing an opportunity for Chamber Members to build a network of customers and contacts in the Grapevine area.
X-ALT-DESC;FMTTYPE=text/html:<div>\n	A networking event to introduce Chamber businesses to the host corporation as well as providing an opportunity for Chamber Members to build a network of customers and contacts in the Grapevine area.<br />\n	&nbsp\;</div>\n
LOCATION:62 Main St. Suite 200 Colleyville\, TX 76034
UID:e.770.163242
SEQUENCE:3
DTSTAMP:20260421T180238Z
URL:https://business.grapevinechamber.org/events/details/business-after-hours-mixer-at-tribeca-americana-bistro-lounge-03-28-2013-163242
END:VEVENT

END:VCALENDAR
