BEGIN:VCALENDAR
VERSION:2.0
PRODID:-//ChamberMaster//Event Calendar 2.0//EN
METHOD:PUBLISH
X-PUBLISHED-TTL:P3D
REFRESH-INTERVAL:P3D
CALSCALE:GREGORIAN
BEGIN:VEVENT
DTSTART:20140311T223000Z
DTEND:20140312T003000Z
X-MICROSOFT-CDO-ALLDAYEVENT:FALSE
SUMMARY:Business After Hours Mixer at The Courtyard/TownePlace Suites by Marriott
DESCRIPTION:A networking event to introduce Chamber businesses to the host corporation as well as providing an opportunity for Chamber Members to build a network of customers and contacts in the Grapevine area.\n\n\n\nPlease RSVP if you plan to attend.
X-ALT-DESC;FMTTYPE=text/html:<div>A networking event to introduce Chamber businesses to the host corporation as well as providing an opportunity for Chamber Members to build a network of customers and contacts in the Grapevine area.<br />\n<br />\n<span style="font-size:14px\;"><strong>Please RSVP if you plan to attend.</strong></span><br />\n&nbsp\;</div>\n
LOCATION:The Courtyard/TownePlace Suites by Marriott 2200 Bass Pro Ct. Grapevine\, TX 76051
UID:e.770.166442
SEQUENCE:3
DTSTAMP:20260420T182355Z
URL:https://business.grapevinechamber.org/events/details/business-after-hours-mixer-at-the-courtyard-towneplace-suites-by-marriott-03-11-2014-166442
END:VEVENT

END:VCALENDAR
