BEGIN:VCALENDAR
VERSION:2.0
PRODID:-//ChamberMaster//Event Calendar 2.0//EN
METHOD:PUBLISH
X-PUBLISHED-TTL:P3D
REFRESH-INTERVAL:P3D
CALSCALE:GREGORIAN
BEGIN:VEVENT
DTSTART:20130228T233000Z
DTEND:20130301T013000Z
X-MICROSOFT-CDO-ALLDAYEVENT:FALSE
SUMMARY:Business After Hours Mixer at Red Robin
DESCRIPTION:A networking event to introduce Chamber businesses to the host corporation as well as providing an opportunity for Chamber Members to build a network of customers and contacts in the Grapevine area.
X-ALT-DESC;FMTTYPE=text/html:<div>\n	A networking event to introduce Chamber businesses to the host corporation as well as providing an opportunity for Chamber Members to build a network of customers and contacts in the Grapevine area.<br />\n	&nbsp\;</div>\n
LOCATION:Red Robin 1701 William D. Tate Ave. Grapevine\, TX 76051
UID:e.770.163241
SEQUENCE:3
DTSTAMP:20260421T193028Z
URL:https://business.grapevinechamber.org/events/details/business-after-hours-mixer-at-red-robin-02-28-2013-163241
END:VEVENT

END:VCALENDAR
