BEGIN:VCALENDAR
VERSION:2.0
PRODID:-//ChamberMaster//Event Calendar 2.0//EN
METHOD:PUBLISH
X-PUBLISHED-TTL:P3D
REFRESH-INTERVAL:P3D
CALSCALE:GREGORIAN
BEGIN:VEVENT
DTSTART:20130110T233000Z
DTEND:20130111T013000Z
X-MICROSOFT-CDO-ALLDAYEVENT:FALSE
SUMMARY:Business After Hours Mixer at Pluckers Wing Bar
DESCRIPTION:A networking event to introduce Chamber businesses to the host corporation as well as providing an opportunity for Chamber Members to build a network of customers and contacts in the Grapevine area.
X-ALT-DESC;FMTTYPE=text/html:<div>\n	A networking event to introduce Chamber businesses to the host corporation as well as providing an opportunity for Chamber Members to build a network of customers and contacts in the Grapevine area.<br />\n	&nbsp\;</div>\n
LOCATION:Pluckers Wing Bar 1709 Cross Roads Dr. Grapevine\, TX 76051
UID:e.770.163239
SEQUENCE:3
DTSTAMP:20260421T212830Z
URL:https://business.grapevinechamber.org/events/details/business-after-hours-mixer-at-pluckers-wing-bar-01-10-2013-163239
END:VEVENT

END:VCALENDAR
