BEGIN:VCALENDAR
VERSION:2.0
PRODID:-//ChamberMaster//Event Calendar 2.0//EN
METHOD:PUBLISH
X-PUBLISHED-TTL:P3D
REFRESH-INTERVAL:P3D
CALSCALE:GREGORIAN
BEGIN:VEVENT
DTSTART:20150528T223000Z
DTEND:20150529T003000Z
X-MICROSOFT-CDO-ALLDAYEVENT:FALSE
SUMMARY:Business After Hours Mixer at NJ Graphic Design Inc.
DESCRIPTION:A networking event to introduce Chamber businesses to the host corporation as well as providing an opportunity for Chamber Members to build a network of customers and contacts in the Grapevine area.\n\n\n\nPlease RSVP if you plan to attend!
X-ALT-DESC;FMTTYPE=text/html:<p><span style="font-size:14px\;"><span style="font-family: arial\;">A networking event to introduce Chamber businesses to the host corporation as well as providing an opportunity for Chamber Members to build a network of customers and contacts in the Grapevine area.<br />\n<br />\n<strong>Please RSVP if you plan to attend!</strong></span></span></p>\n
LOCATION:NJ Graphic Design\, Inc. 203 E. Worth St. Grapevine\, TX 76051
UID:e.770.170059
SEQUENCE:3
DTSTAMP:20260420T221809Z
URL:https://business.grapevinechamber.org/events/details/business-after-hours-mixer-at-nj-graphic-design-inc-05-28-2015-170059
END:VEVENT

END:VCALENDAR
